BEGIN:VCALENDAR
VERSION:2.0
PRODID:-//City of Alexandria Kentucky - ECPv6.15.20//NONSGML v1.0//EN
CALSCALE:GREGORIAN
METHOD:PUBLISH
X-WR-CALNAME:City of Alexandria Kentucky
X-ORIGINAL-URL:https://alexandriaky.gov
X-WR-CALDESC:Events for City of Alexandria Kentucky
REFRESH-INTERVAL;VALUE=DURATION:PT1H
X-Robots-Tag:noindex
X-PUBLISHED-TTL:PT1H
BEGIN:VTIMEZONE
TZID:America/New_York
BEGIN:DAYLIGHT
TZOFFSETFROM:-0500
TZOFFSETTO:-0400
TZNAME:EDT
DTSTART:20190310T070000
END:DAYLIGHT
BEGIN:STANDARD
TZOFFSETFROM:-0400
TZOFFSETTO:-0500
TZNAME:EST
DTSTART:20191103T060000
END:STANDARD
BEGIN:DAYLIGHT
TZOFFSETFROM:-0500
TZOFFSETTO:-0400
TZNAME:EDT
DTSTART:20200308T070000
END:DAYLIGHT
BEGIN:STANDARD
TZOFFSETFROM:-0400
TZOFFSETTO:-0500
TZNAME:EST
DTSTART:20201101T060000
END:STANDARD
BEGIN:DAYLIGHT
TZOFFSETFROM:-0500
TZOFFSETTO:-0400
TZNAME:EDT
DTSTART:20210314T070000
END:DAYLIGHT
BEGIN:STANDARD
TZOFFSETFROM:-0400
TZOFFSETTO:-0500
TZNAME:EST
DTSTART:20211107T060000
END:STANDARD
BEGIN:DAYLIGHT
TZOFFSETFROM:-0500
TZOFFSETTO:-0400
TZNAME:EDT
DTSTART:20220313T070000
END:DAYLIGHT
BEGIN:STANDARD
TZOFFSETFROM:-0400
TZOFFSETTO:-0500
TZNAME:EST
DTSTART:20221106T060000
END:STANDARD
BEGIN:DAYLIGHT
TZOFFSETFROM:-0500
TZOFFSETTO:-0400
TZNAME:EDT
DTSTART:20230312T070000
END:DAYLIGHT
BEGIN:STANDARD
TZOFFSETFROM:-0400
TZOFFSETTO:-0500
TZNAME:EST
DTSTART:20231105T060000
END:STANDARD
END:VTIMEZONE
BEGIN:VEVENT
DTSTART;TZID=America/New_York:20220722T210000
DTEND;TZID=America/New_York:20220722T230000
DTSTAMP:20260425T211257
CREATED:20220627T190650Z
LAST-MODIFIED:20220722T132625Z
UID:10000741-1658523600-1658530800@alexandriaky.gov
SUMMARY:Movie @ Comm. Park
DESCRIPTION:Presented by Woodmen of the World Lodge.  Movie starts at dusk. Featuring “Back to the Future\, 80’s Themed”
URL:https://alexandriaky.gov/event/movie-comm-park/
LOCATION:Alexandria Community Park 3965 Alexandria Dr.\, Alexandria KY\, 3965 Alexandria Drive\, Alexandria\, KY\, 41001\, United States
END:VEVENT
BEGIN:VEVENT
DTSTART;TZID=America/New_York:20220719T190000
DTEND;TZID=America/New_York:20220719T200000
DTSTAMP:20260425T211257
CREATED:20220627T190201Z
LAST-MODIFIED:20220627T190211Z
UID:10000740-1658257200-1658260800@alexandriaky.gov
SUMMARY:Free Yoga @ Comm. Park
DESCRIPTION:Rain cancels.
URL:https://alexandriaky.gov/event/free-yoga-comm-park-3/
LOCATION:Alexandria Community Park 3965 Alexandria Dr.\, Alexandria KY\, 3965 Alexandria Drive\, Alexandria\, KY\, 41001\, United States
END:VEVENT
BEGIN:VEVENT
DTSTART;TZID=America/New_York:20220712T190000
DTEND;TZID=America/New_York:20220712T200000
DTSTAMP:20260425T211257
CREATED:20220627T190111Z
LAST-MODIFIED:20220712T175652Z
UID:10000739-1657652400-1657656000@alexandriaky.gov
SUMMARY:CANCELLED - Free Yoga @ Comm. Park
DESCRIPTION:CANCELLED
URL:https://alexandriaky.gov/event/free-yoga-comm-park-2/
LOCATION:Alexandria Community Park 3965 Alexandria Dr.\, Alexandria KY\, 3965 Alexandria Drive\, Alexandria\, KY\, 41001\, United States
END:VEVENT
BEGIN:VEVENT
DTSTART;TZID=America/New_York:20220707T130000
DTEND;TZID=America/New_York:20220707T140000
DTSTAMP:20260425T211257
CREATED:20220627T185748Z
LAST-MODIFIED:20220627T185759Z
UID:10000737-1657198800-1657202400@alexandriaky.gov
SUMMARY:Story Time at Comm. Park
DESCRIPTION:
URL:https://alexandriaky.gov/event/story-time-at-comm-park/
LOCATION:Alexandria Community Park 3965 Alexandria Dr.\, Alexandria KY\, 3965 Alexandria Drive\, Alexandria\, KY\, 41001\, United States
END:VEVENT
BEGIN:VEVENT
DTSTART;TZID=America/New_York:20220706T190000
DTEND;TZID=America/New_York:20220706T200000
DTSTAMP:20260425T211257
CREATED:20220610T134520Z
LAST-MODIFIED:20220629T143342Z
UID:10000567-1657134000-1657137600@alexandriaky.gov
SUMMARY:Park & Rec Meeting
DESCRIPTION:MEETING AGENDA
URL:https://alexandriaky.gov/event/park-rec-meeting-7/
LOCATION:Alexandria Community Park 3965 Alexandria Dr.\, Alexandria KY\, 3965 Alexandria Drive\, Alexandria\, KY\, 41001\, United States
END:VEVENT
BEGIN:VEVENT
DTSTART;TZID=America/New_York:20220705T190000
DTEND;TZID=America/New_York:20220705T200000
DTSTAMP:20260425T211257
CREATED:20220627T190012Z
LAST-MODIFIED:20220627T190012Z
UID:10000738-1657047600-1657051200@alexandriaky.gov
SUMMARY:Free Yoga @ Comm. Park
DESCRIPTION:Rain cancels.
URL:https://alexandriaky.gov/event/free-yoga-comm-park/
LOCATION:Alexandria Community Park 3965 Alexandria Dr.\, Alexandria KY\, 3965 Alexandria Drive\, Alexandria\, KY\, 41001\, United States
END:VEVENT
BEGIN:VEVENT
DTSTART;TZID=America/New_York:20220624T190000
DTEND;TZID=America/New_York:20220624T213000
DTSTAMP:20260425T211257
CREATED:20220531T132753Z
LAST-MODIFIED:20220615T150314Z
UID:10000726-1656097200-1656106200@alexandriaky.gov
SUMMARY:Movie Night at Community Park
DESCRIPTION:Bring your family and friends!  Please feel free to share!  Join us for Woodmen Life MOVIE NIGHT IN THE PARK on FRIDAY\, JUNE 24TH at DUSK.  Movie will be shown on the ball field.  Even is FREE.  Bring your own chairs or blankets and get there early to grab your spot”  Popcorn will be provided for free by Woodmen Live Chapter 918 and drinks will be available for a small charge.  Kona Ice will also be available for a small charge!
URL:https://alexandriaky.gov/event/movie-night-at-community-park/
LOCATION:Alexandria Community Park 3965 Alexandria Dr.\, Alexandria KY\, 3965 Alexandria Drive\, Alexandria\, KY\, 41001\, United States
END:VEVENT
BEGIN:VEVENT
DTSTART;TZID=America/New_York:20220616T130000
DTEND;TZID=America/New_York:20220616T134500
DTSTAMP:20260425T211257
CREATED:20220531T132651Z
LAST-MODIFIED:20220606T143414Z
UID:10000725-1655384400-1655387100@alexandriaky.gov
SUMMARY:Story Time @ Community Park
DESCRIPTION:
URL:https://alexandriaky.gov/event/story-time-community-park/
LOCATION:Alexandria Community Park 3965 Alexandria Dr.\, Alexandria KY\, 3965 Alexandria Drive\, Alexandria\, KY\, 41001\, United States
END:VEVENT
BEGIN:VEVENT
DTSTART;VALUE=DATE:20220614
DTEND;VALUE=DATE:20220615
DTSTAMP:20260425T211257
CREATED:20220610T135610Z
LAST-MODIFIED:20220610T135610Z
UID:10000736-1655164800-1655251199@alexandriaky.gov
SUMMARY:Catfish Stocking
DESCRIPTION:
URL:https://alexandriaky.gov/event/catfish-stocking-2/
LOCATION:Alexandria Community Park 3965 Alexandria Dr.\, Alexandria KY\, 3965 Alexandria Drive\, Alexandria\, KY\, 41001\, United States
END:VEVENT
BEGIN:VEVENT
DTSTART;TZID=America/New_York:20220604T100000
DTEND;TZID=America/New_York:20220604T120000
DTSTAMP:20260425T211257
CREATED:20220531T132355Z
LAST-MODIFIED:20220531T132404Z
UID:10000724-1654336800-1654344000@alexandriaky.gov
SUMMARY:Youth Fishing Derby
DESCRIPTION:
URL:https://alexandriaky.gov/event/youth-fishing-derby-2/
LOCATION:Alexandria Community Park 3965 Alexandria Dr.\, Alexandria KY\, 3965 Alexandria Drive\, Alexandria\, KY\, 41001\, United States
END:VEVENT
BEGIN:VEVENT
DTSTART;TZID=America/New_York:20220604T080000
DTEND;TZID=America/New_York:20220605T210000
DTSTAMP:20260425T211257
CREATED:20220601T130829Z
LAST-MODIFIED:20220601T130911Z
UID:10000727-1654329600-1654462800@alexandriaky.gov
SUMMARY:Free Fishing Weekend
DESCRIPTION:No License Required
URL:https://alexandriaky.gov/event/free-fishing-weekend/
LOCATION:Alexandria Community Park 3965 Alexandria Dr.\, Alexandria KY\, 3965 Alexandria Drive\, Alexandria\, KY\, 41001\, United States
END:VEVENT
BEGIN:VEVENT
DTSTART;TZID=America/New_York:20220601T190000
DTEND;TZID=America/New_York:20220601T200000
DTSTAMP:20260425T211257
CREATED:20220513T142037Z
LAST-MODIFIED:20220531T163127Z
UID:10000562-1654110000-1654113600@alexandriaky.gov
SUMMARY:CANCELLED-Park & Rec Board
DESCRIPTION:Park Rec-Cancellation
URL:https://alexandriaky.gov/event/park-rec-board/
LOCATION:Alexandria Community Park 3965 Alexandria Dr.\, Alexandria KY\, 3965 Alexandria Drive\, Alexandria\, KY\, 41001\, United States
END:VEVENT
BEGIN:VEVENT
DTSTART;TZID=America/New_York:20220521T100000
DTEND;TZID=America/New_York:20220521T120000
DTSTAMP:20260425T211257
CREATED:20220504T123339Z
LAST-MODIFIED:20220504T123345Z
UID:10000555-1653127200-1653134400@alexandriaky.gov
SUMMARY:KIDS TO PARKS DAY
DESCRIPTION:
URL:https://alexandriaky.gov/event/kids-to-parks-day/
LOCATION:Alexandria Community Park 3965 Alexandria Dr.\, Alexandria KY\, 3965 Alexandria Drive\, Alexandria\, KY\, 41001\, United States
END:VEVENT
BEGIN:VEVENT
DTSTART;VALUE=DATE:20220518
DTEND;VALUE=DATE:20220519
DTSTAMP:20260425T211257
CREATED:20220513T181517Z
LAST-MODIFIED:20220513T181517Z
UID:10000723-1652832000-1652918399@alexandriaky.gov
SUMMARY:1400 Catfish Delivery
DESCRIPTION:
URL:https://alexandriaky.gov/event/1400-catfish-delivery/
LOCATION:Alexandria Community Park 3965 Alexandria Dr.\, Alexandria KY\, 3965 Alexandria Drive\, Alexandria\, KY\, 41001\, United States
END:VEVENT
BEGIN:VEVENT
DTSTART;TZID=America/New_York:20220430T120000
DTEND;TZID=America/New_York:20220430T140000
DTSTAMP:20260425T211257
CREATED:20220420T194642Z
LAST-MODIFIED:20220420T194642Z
UID:10000718-1651320000-1651327200@alexandriaky.gov
SUMMARY:Park Clean-Up Day
DESCRIPTION:
URL:https://alexandriaky.gov/event/park-clean-up-day-2/
LOCATION:Alexandria Community Park 3965 Alexandria Dr.\, Alexandria KY\, 3965 Alexandria Drive\, Alexandria\, KY\, 41001\, United States
END:VEVENT
BEGIN:VEVENT
DTSTART;TZID=America/New_York:20220430T100000
DTEND;TZID=America/New_York:20220430T120000
DTSTAMP:20260425T211257
CREATED:20220329T194740Z
LAST-MODIFIED:20220420T194517Z
UID:10000548-1651312800-1651320000@alexandriaky.gov
SUMMARY:Arbor Day Tree Give-Away
DESCRIPTION:
URL:https://alexandriaky.gov/event/arbor-day-tree-give-away-2/
LOCATION:Alexandria Community Park 3965 Alexandria Dr.\, Alexandria KY\, 3965 Alexandria Drive\, Alexandria\, KY\, 41001\, United States
END:VEVENT
BEGIN:VEVENT
DTSTART;TZID=America/New_York:20220409T100000
DTEND;TZID=America/New_York:20220409T130000
DTSTAMP:20260425T211257
CREATED:20220322T120404Z
LAST-MODIFIED:20220322T120413Z
UID:10000546-1649498400-1649509200@alexandriaky.gov
SUMMARY:Park Clean-Up Day
DESCRIPTION:
URL:https://alexandriaky.gov/event/park-clean-up-day/
LOCATION:Alexandria Community Park 3965 Alexandria Dr.\, Alexandria KY\, 3965 Alexandria Drive\, Alexandria\, KY\, 41001\, United States
END:VEVENT
BEGIN:VEVENT
DTSTART;VALUE=DATE:20220317
DTEND;VALUE=DATE:20220318
DTSTAMP:20260425T211257
CREATED:20220209T140534Z
LAST-MODIFIED:20220224T200327Z
UID:10000687-1647475200-1647561599@alexandriaky.gov
SUMMARY:Trout Stocking
DESCRIPTION:Kentucky Department of Fish and Wildlife will be stocking the Park Lake with trout.
URL:https://alexandriaky.gov/event/trout-stocking-2/
LOCATION:Alexandria Community Park 3965 Alexandria Dr.\, Alexandria KY\, 3965 Alexandria Drive\, Alexandria\, KY\, 41001\, United States
END:VEVENT
BEGIN:VEVENT
DTSTART;VALUE=DATE:20220308
DTEND;VALUE=DATE:20220309
DTSTAMP:20260425T211257
CREATED:20220224T200423Z
LAST-MODIFIED:20220224T200430Z
UID:10000691-1646697600-1646783999@alexandriaky.gov
SUMMARY:Catfish Stocking
DESCRIPTION:1\,400 Catfish will be stocked at the Alexandria Community Park Lake
URL:https://alexandriaky.gov/event/catfish-stocking/
LOCATION:Alexandria Community Park 3965 Alexandria Dr.\, Alexandria KY\, 3965 Alexandria Drive\, Alexandria\, KY\, 41001\, United States
END:VEVENT
BEGIN:VEVENT
DTSTART;TZID=America/New_York:20210901T190000
DTEND;TZID=America/New_York:20210901T200000
DTSTAMP:20260425T211257
CREATED:20210813T153437Z
LAST-MODIFIED:20210826T182418Z
UID:10000475-1630522800-1630526400@alexandriaky.gov
SUMMARY:CANCELLED-Park & Rec Meeting
DESCRIPTION:
URL:https://alexandriaky.gov/event/park-rec-meeting-5/
LOCATION:Alexandria Community Park 3965 Alexandria Dr.\, Alexandria KY\, 3965 Alexandria Drive\, Alexandria\, KY\, 41001\, United States
END:VEVENT
BEGIN:VEVENT
DTSTART;TZID=America/New_York:20210814T100000
DTEND;TZID=America/New_York:20210814T130000
DTSTAMP:20260425T211257
CREATED:20210723T192323Z
LAST-MODIFIED:20210723T192333Z
UID:10000628-1628935200-1628946000@alexandriaky.gov
SUMMARY:Dog Day at the Park
DESCRIPTION:Looking for Vendors!  Dog Day at Alexandria Community Park.  Vendor participation is free* and will allow you to display products and services.  (*Financial transactions for profit will require a one-day\, temporary city occupational license $10 – unless you hold a current City of Alexandria occupational License)  Vendor Registration Form \nFor questions\, call Kim Wagner\, 859-635-6359  kwagner@alexandriaky.org \n \n 
URL:https://alexandriaky.gov/event/dog-day-at-the-park/
LOCATION:Alexandria Community Park 3965 Alexandria Dr.\, Alexandria KY\, 3965 Alexandria Drive\, Alexandria\, KY\, 41001\, United States
END:VEVENT
BEGIN:VEVENT
DTSTART;TZID=America/New_York:20210804T070000
DTEND;TZID=America/New_York:20210804T200000
DTSTAMP:20260425T211257
CREATED:20210729T194913Z
LAST-MODIFIED:20210729T194924Z
UID:10000630-1628060400-1628107200@alexandriaky.gov
SUMMARY:Park & Rec Meeting
DESCRIPTION:AGENDA
URL:https://alexandriaky.gov/event/park-rec-meeting-4/
LOCATION:Alexandria Community Park 3965 Alexandria Dr.\, Alexandria KY\, 3965 Alexandria Drive\, Alexandria\, KY\, 41001\, United States
END:VEVENT
BEGIN:VEVENT
DTSTART;TZID=America/New_York:20210727T190000
DTEND;TZID=America/New_York:20210727T200000
DTSTAMP:20260425T211257
CREATED:20210707T173611Z
LAST-MODIFIED:20210707T173616Z
UID:10000621-1627412400-1627416000@alexandriaky.gov
SUMMARY:Free Yoga at the Park
DESCRIPTION:
URL:https://alexandriaky.gov/event/free-yoga-at-the-park-4/
LOCATION:Alexandria Community Park 3965 Alexandria Dr.\, Alexandria KY\, 3965 Alexandria Drive\, Alexandria\, KY\, 41001\, United States
END:VEVENT
BEGIN:VEVENT
DTSTART;TZID=America/New_York:20210713T190000
DTEND;TZID=America/New_York:20210713T200000
DTSTAMP:20260425T211257
CREATED:20210707T173533Z
LAST-MODIFIED:20210707T173538Z
UID:10000619-1626202800-1626206400@alexandriaky.gov
SUMMARY:Free Yoga at the Park
DESCRIPTION:
URL:https://alexandriaky.gov/event/free-yoga-at-the-park-3/
LOCATION:Alexandria Community Park 3965 Alexandria Dr.\, Alexandria KY\, 3965 Alexandria Drive\, Alexandria\, KY\, 41001\, United States
END:VEVENT
BEGIN:VEVENT
DTSTART;TZID=America/New_York:20210707T190000
DTEND;TZID=America/New_York:20210707T200000
DTSTAMP:20260425T211257
CREATED:20210625T142151Z
LAST-MODIFIED:20210701T152101Z
UID:10000615-1625684400-1625688000@alexandriaky.gov
SUMMARY:Park & Recreation Board Mtg.
DESCRIPTION:AGENDA
URL:https://alexandriaky.gov/event/park-recreation-board-mtg-2/
LOCATION:Alexandria Community Park 3965 Alexandria Dr.\, Alexandria KY\, 3965 Alexandria Drive\, Alexandria\, KY\, 41001\, United States
END:VEVENT
BEGIN:VEVENT
DTSTART;TZID=America/New_York:20210605T100000
DTEND;TZID=America/New_York:20210605T120000
DTSTAMP:20260425T211257
CREATED:20210520T163118Z
LAST-MODIFIED:20210520T174026Z
UID:10000602-1622887200-1622894400@alexandriaky.gov
SUMMARY:Youth Fishing Derby
DESCRIPTION:To expedite registration\, please complete this WAIVER and bring it with you to the Fishing Derby. \n 
URL:https://alexandriaky.gov/event/youth-fishing-derby/
LOCATION:Alexandria Community Park 3965 Alexandria Dr.\, Alexandria KY\, 3965 Alexandria Drive\, Alexandria\, KY\, 41001\, United States
END:VEVENT
BEGIN:VEVENT
DTSTART;TZID=America/New_York:20210602T190000
DTEND;TZID=America/New_York:20210602T200000
DTSTAMP:20260425T211257
CREATED:20210514T174227Z
LAST-MODIFIED:20210528T162613Z
UID:10000582-1622660400-1622664000@alexandriaky.gov
SUMMARY:Park & Recreation Board Meeting
DESCRIPTION:AGENDA
URL:https://alexandriaky.gov/event/park-recreation-board-meeting-3/
LOCATION:Alexandria Community Park 3965 Alexandria Dr.\, Alexandria KY\, 3965 Alexandria Drive\, Alexandria\, KY\, 41001\, United States
END:VEVENT
BEGIN:VEVENT
DTSTART;TZID=America/New_York:20210515T103000
DTEND;TZID=America/New_York:20210515T103000
DTSTAMP:20260425T211257
CREATED:20210507T192600Z
LAST-MODIFIED:20210513T121615Z
UID:10000446-1621074600-1621074600@alexandriaky.gov
SUMMARY:Kids Drum Fun
DESCRIPTION:The City of Alexandria supports Kids to Parks Day! \nFree Kids Drum Fun workout at the Alexandria Community Park.  Class lasts 1/2 hour.  Get some fresh air and exercise\, drumming to the beat!  We will socially distance\, on the old basketball court near the ball field.  It’s easy and fun.  Call to register at 859-635-6359.  RAIN CANCELS \n  \n 
URL:https://alexandriaky.gov/event/kids-drum-fun/
LOCATION:Alexandria Community Park 3965 Alexandria Dr.\, Alexandria KY\, 3965 Alexandria Drive\, Alexandria\, KY\, 41001\, United States
END:VEVENT
BEGIN:VEVENT
DTSTART;TZID=America/New_York:20210424T100000
DTEND;TZID=America/New_York:20210424T120000
DTSTAMP:20260425T211257
CREATED:20210413T124242Z
LAST-MODIFIED:20210413T124248Z
UID:10000579-1619258400-1619265600@alexandriaky.gov
SUMMARY:Arbor Day Tree Give-Away
DESCRIPTION:The City of Alexandria will give away 500 large stock tree saplings. Event will be held on the basketball court. \nSelection includes: \n\nEastern Redbud\nRiver Birch\nPin Oak\nRoughleaf Dogwood\n\n 
URL:https://alexandriaky.gov/event/arbor-day-tree-give-away/
LOCATION:Alexandria Community Park 3965 Alexandria Dr.\, Alexandria KY\, 3965 Alexandria Drive\, Alexandria\, KY\, 41001\, United States
END:VEVENT
BEGIN:VEVENT
DTSTART;TZID=America/New_York:20201110T080000
DTEND;TZID=America/New_York:20201110T170000
DTSTAMP:20260425T211257
CREATED:20201103T144630Z
LAST-MODIFIED:20201103T144634Z
UID:10000512-1604995200-1605027600@alexandriaky.gov
SUMMARY:Trout Stocking
DESCRIPTION:1500 Trout will be delivered today
URL:https://alexandriaky.gov/event/trout-stocking/
LOCATION:Alexandria Community Park 3965 Alexandria Dr.\, Alexandria KY\, 3965 Alexandria Drive\, Alexandria\, KY\, 41001\, United States
END:VEVENT
END:VCALENDAR