BEGIN:VCALENDAR
VERSION:2.0
PRODID:-//City of Alexandria Kentucky - ECPv6.15.20//NONSGML v1.0//EN
CALSCALE:GREGORIAN
METHOD:PUBLISH
X-WR-CALNAME:City of Alexandria Kentucky
X-ORIGINAL-URL:https://alexandriaky.gov
X-WR-CALDESC:Events for City of Alexandria Kentucky
REFRESH-INTERVAL;VALUE=DURATION:PT1H
X-Robots-Tag:noindex
X-PUBLISHED-TTL:PT1H
BEGIN:VTIMEZONE
TZID:America/New_York
BEGIN:DAYLIGHT
TZOFFSETFROM:-0500
TZOFFSETTO:-0400
TZNAME:EDT
DTSTART:20250309T070000
END:DAYLIGHT
BEGIN:STANDARD
TZOFFSETFROM:-0400
TZOFFSETTO:-0500
TZNAME:EST
DTSTART:20251102T060000
END:STANDARD
BEGIN:DAYLIGHT
TZOFFSETFROM:-0500
TZOFFSETTO:-0400
TZNAME:EDT
DTSTART:20260308T070000
END:DAYLIGHT
BEGIN:STANDARD
TZOFFSETFROM:-0400
TZOFFSETTO:-0500
TZNAME:EST
DTSTART:20261101T060000
END:STANDARD
BEGIN:DAYLIGHT
TZOFFSETFROM:-0500
TZOFFSETTO:-0400
TZNAME:EDT
DTSTART:20270314T070000
END:DAYLIGHT
BEGIN:STANDARD
TZOFFSETFROM:-0400
TZOFFSETTO:-0500
TZNAME:EST
DTSTART:20271107T060000
END:STANDARD
END:VTIMEZONE
BEGIN:VEVENT
DTSTART;TZID=America/New_York:20260824T091500
DTEND;TZID=America/New_York:20260824T094500
DTSTAMP:20260420T035519
CREATED:20260205T155051Z
LAST-MODIFIED:20260205T160331Z
UID:10002025-1787562900-1787564700@alexandriaky.gov
SUMMARY:Chair Yoga
DESCRIPTION:
URL:https://alexandriaky.gov/event/chair-yoga/2026-08-24/
LOCATION:Calvin A. Perry Community Center\, 8236 W. Main Street\, Alexandria\, KY\, 41001\, United States
CATEGORIES:Community Center
ATTACH;FMTTYPE=image/jpeg:https://alexandriaky.gov/wp-content/uploads/2024/12/chair-yoga-flyer.resize.jpg
END:VEVENT
BEGIN:VEVENT
DTSTART;TZID=America/New_York:20260824T101500
DTEND;TZID=America/New_York:20260824T110000
DTSTAMP:20260420T035519
CREATED:20260205T161632Z
LAST-MODIFIED:20260205T161632Z
UID:10002120-1787566500-1787569200@alexandriaky.gov
SUMMARY:Fit-4-Life
DESCRIPTION:
URL:https://alexandriaky.gov/event/fit-4-life/2026-08-24/
LOCATION:Calvin A. Perry Community Center\, 8236 W. Main Street\, Alexandria\, KY\, 41001\, United States
CATEGORIES:Community Center
ATTACH;FMTTYPE=image/jpeg:https://alexandriaky.gov/wp-content/uploads/2026/02/2025-Fit-for-life-flyer.resize.jpg
END:VEVENT
BEGIN:VEVENT
DTSTART;TZID=America/New_York:20260824T120000
DTEND;TZID=America/New_York:20260824T144500
DTSTAMP:20260420T035519
CREATED:20260205T162616Z
LAST-MODIFIED:20260205T162616Z
UID:10002498-1787572800-1787582700@alexandriaky.gov
SUMMARY:Afternoon Chair Volleyball
DESCRIPTION:
URL:https://alexandriaky.gov/event/afternoon-chair-volleyball/2026-08-24/
LOCATION:Calvin A. Perry Community Center\, 8236 W. Main Street\, Alexandria\, KY\, 41001\, United States
CATEGORIES:Community Center
ATTACH;FMTTYPE=image/jpeg:https://alexandriaky.gov/wp-content/uploads/2026/02/1_30_25_Ch-Volley-Flyer.resize.jpg
END:VEVENT
BEGIN:VEVENT
DTSTART;TZID=America/New_York:20260824T120000
DTEND;TZID=America/New_York:20260824T144500
DTSTAMP:20260420T035519
CREATED:20260205T162925Z
LAST-MODIFIED:20260205T162925Z
UID:10002594-1787572800-1787582700@alexandriaky.gov
SUMMARY:Afternoon Pickleball
DESCRIPTION:
URL:https://alexandriaky.gov/event/afternoon-pickleball/2026-08-24/
LOCATION:Calvin A. Perry Community Center\, 8236 W. Main Street\, Alexandria\, KY\, 41001\, United States
CATEGORIES:Community Center
ATTACH;FMTTYPE=image/jpeg:https://alexandriaky.gov/wp-content/uploads/2026/02/picklleball-flyer-1_30_25.resize.jpg
END:VEVENT
BEGIN:VEVENT
DTSTART;TZID=America/New_York:20260825T090000
DTEND;TZID=America/New_York:20260825T094500
DTSTAMP:20260420T035519
CREATED:20260205T163310Z
LAST-MODIFIED:20260205T163310Z
UID:10002690-1787648400-1787651100@alexandriaky.gov
SUMMARY:Morning Chair Volleyball
DESCRIPTION:
URL:https://alexandriaky.gov/event/morning-chair-volleyball/2026-08-25/
LOCATION:Calvin A. Perry Community Center\, 8236 W. Main Street\, Alexandria\, KY\, 41001\, United States
CATEGORIES:Community Center
ATTACH;FMTTYPE=image/jpeg:https://alexandriaky.gov/wp-content/uploads/2026/02/1_30_25_Ch-Volley-Flyer.resize.jpg
END:VEVENT
BEGIN:VEVENT
DTSTART;TZID=America/New_York:20260825T100000
DTEND;TZID=America/New_York:20260825T120000
DTSTAMP:20260420T035519
CREATED:20260205T163713Z
LAST-MODIFIED:20260205T163713Z
UID:10002786-1787652000-1787659200@alexandriaky.gov
SUMMARY:Morning Pickleball
DESCRIPTION:
URL:https://alexandriaky.gov/event/morning-pickleball/2026-08-25/
LOCATION:Calvin A. Perry Community Center\, 8236 W. Main Street\, Alexandria\, KY\, 41001\, United States
CATEGORIES:Community Center
ATTACH;FMTTYPE=image/jpeg:https://alexandriaky.gov/wp-content/uploads/2026/02/picklleball-flyer-1_30_25.resize.jpg
END:VEVENT
BEGIN:VEVENT
DTSTART;TZID=America/New_York:20260826T091500
DTEND;TZID=America/New_York:20260826T094500
DTSTAMP:20260420T035519
CREATED:20260205T160036Z
LAST-MODIFIED:20260205T161054Z
UID:10002072-1787735700-1787737500@alexandriaky.gov
SUMMARY:Chair Yoga
DESCRIPTION:
URL:https://alexandriaky.gov/event/chair-yoga-3/2026-08-26/
LOCATION:Calvin A. Perry Community Center\, 8236 W. Main Street\, Alexandria\, KY\, 41001\, United States
CATEGORIES:Community Center
ATTACH;FMTTYPE=image/jpeg:https://alexandriaky.gov/wp-content/uploads/2024/12/chair-yoga-flyer.resize.jpg
END:VEVENT
BEGIN:VEVENT
DTSTART;TZID=America/New_York:20260826T101500
DTEND;TZID=America/New_York:20260826T110000
DTSTAMP:20260420T035519
CREATED:20260205T162139Z
LAST-MODIFIED:20260205T164726Z
UID:10002342-1787739300-1787742000@alexandriaky.gov
SUMMARY:Fit-4-Life
DESCRIPTION:
URL:https://alexandriaky.gov/event/fit-4-life-2/2026-08-26/
LOCATION:Calvin A. Perry Community Center\, 8236 W. Main Street\, Alexandria\, KY\, 41001\, United States
CATEGORIES:Community Center
ATTACH;FMTTYPE=image/jpeg:https://alexandriaky.gov/wp-content/uploads/2026/02/2025-Fit-for-life-flyer.resize.jpg
END:VEVENT
BEGIN:VEVENT
DTSTART;TZID=America/New_York:20260826T120000
DTEND;TZID=America/New_York:20260826T144500
DTSTAMP:20260420T035520
CREATED:20260205T162727Z
LAST-MODIFIED:20260205T162727Z
UID:10002546-1787745600-1787755500@alexandriaky.gov
SUMMARY:Afternoon Chair Volleyball
DESCRIPTION:
URL:https://alexandriaky.gov/event/afternoon-chair-volleyball-2/2026-08-26/
LOCATION:Calvin A. Perry Community Center\, 8236 W. Main Street\, Alexandria\, KY\, 41001\, United States
CATEGORIES:Community Center
ATTACH;FMTTYPE=image/jpeg:https://alexandriaky.gov/wp-content/uploads/2026/02/1_30_25_Ch-Volley-Flyer.resize.jpg
END:VEVENT
BEGIN:VEVENT
DTSTART;TZID=America/New_York:20260826T120000
DTEND;TZID=America/New_York:20260826T144500
DTSTAMP:20260420T035520
CREATED:20260205T163149Z
LAST-MODIFIED:20260205T164833Z
UID:10002929-1787745600-1787755500@alexandriaky.gov
SUMMARY:Afternoon Pickleball
DESCRIPTION:
URL:https://alexandriaky.gov/event/afternoon-pickleball-2/2026-08-26/
LOCATION:Calvin A. Perry Community Center\, 8236 W. Main Street\, Alexandria\, KY\, 41001\, United States
CATEGORIES:Community Center
ATTACH;FMTTYPE=image/jpeg:https://alexandriaky.gov/wp-content/uploads/2026/02/picklleball-flyer-1_30_25.resize.jpg
END:VEVENT
BEGIN:VEVENT
DTSTART;TZID=America/New_York:20260827T090000
DTEND;TZID=America/New_York:20260827T103000
DTSTAMP:20260420T035520
CREATED:20260205T163452Z
LAST-MODIFIED:20260205T163452Z
UID:10002738-1787821200-1787826600@alexandriaky.gov
SUMMARY:Morning Chair Volleyball
DESCRIPTION:
URL:https://alexandriaky.gov/event/morning-chair-volleyball-2/2026-08-27/
LOCATION:Calvin A. Perry Community Center\, 8236 W. Main Street\, Alexandria\, KY\, 41001\, United States
CATEGORIES:Community Center
ATTACH;FMTTYPE=image/jpeg:https://alexandriaky.gov/wp-content/uploads/2026/02/1_30_25_Ch-Volley-Flyer.resize.jpg
END:VEVENT
BEGIN:VEVENT
DTSTART;TZID=America/New_York:20260827T100000
DTEND;TZID=America/New_York:20260827T120000
DTSTAMP:20260420T035520
CREATED:20260205T163826Z
LAST-MODIFIED:20260205T163826Z
UID:10002834-1787824800-1787832000@alexandriaky.gov
SUMMARY:Morning Pickleball
DESCRIPTION:
URL:https://alexandriaky.gov/event/morning-pickleball-2/2026-08-27/
LOCATION:Calvin A. Perry Community Center\, 8236 W. Main Street\, Alexandria\, KY\, 41001\, United States
CATEGORIES:Community Center
ATTACH;FMTTYPE=image/jpeg:https://alexandriaky.gov/wp-content/uploads/2026/02/picklleball-flyer-1_30_25.resize.jpg
END:VEVENT
BEGIN:VEVENT
DTSTART;TZID=America/New_York:20260828T091500
DTEND;TZID=America/New_York:20260828T100000
DTSTAMP:20260420T035520
CREATED:20260205T164051Z
LAST-MODIFIED:20260205T164051Z
UID:10002882-1787908500-1787911200@alexandriaky.gov
SUMMARY:Drum Fun
DESCRIPTION:
URL:https://alexandriaky.gov/event/drum-fun/2026-08-28/
LOCATION:Calvin A. Perry Community Center\, 8236 W. Main Street\, Alexandria\, KY\, 41001\, United States
CATEGORIES:Community Center
ATTACH;FMTTYPE=image/jpeg:https://alexandriaky.gov/wp-content/uploads/2026/02/DrumFun-Flyer-1_30_25.resize.jpg
END:VEVENT
END:VCALENDAR