BEGIN:VCALENDAR
VERSION:2.0
PRODID:-//City of Alexandria Kentucky - ECPv6.15.20//NONSGML v1.0//EN
CALSCALE:GREGORIAN
METHOD:PUBLISH
X-ORIGINAL-URL:https://alexandriaky.gov
X-WR-CALDESC:Events for City of Alexandria Kentucky
REFRESH-INTERVAL;VALUE=DURATION:PT1H
X-Robots-Tag:noindex
X-PUBLISHED-TTL:PT1H
BEGIN:VTIMEZONE
TZID:America/New_York
BEGIN:DAYLIGHT
TZOFFSETFROM:-0500
TZOFFSETTO:-0400
TZNAME:EDT
DTSTART:20250309T070000
END:DAYLIGHT
BEGIN:STANDARD
TZOFFSETFROM:-0400
TZOFFSETTO:-0500
TZNAME:EST
DTSTART:20251102T060000
END:STANDARD
BEGIN:DAYLIGHT
TZOFFSETFROM:-0500
TZOFFSETTO:-0400
TZNAME:EDT
DTSTART:20260308T070000
END:DAYLIGHT
BEGIN:STANDARD
TZOFFSETFROM:-0400
TZOFFSETTO:-0500
TZNAME:EST
DTSTART:20261101T060000
END:STANDARD
BEGIN:DAYLIGHT
TZOFFSETFROM:-0500
TZOFFSETTO:-0400
TZNAME:EDT
DTSTART:20270314T070000
END:DAYLIGHT
BEGIN:STANDARD
TZOFFSETFROM:-0400
TZOFFSETTO:-0500
TZNAME:EST
DTSTART:20271107T060000
END:STANDARD
END:VTIMEZONE
BEGIN:VEVENT
DTSTART;TZID=America/New_York:20260727T091500
DTEND;TZID=America/New_York:20260727T094500
DTSTAMP:20260419T141155
CREATED:20260205T155051Z
LAST-MODIFIED:20260205T160331Z
UID:10002021-1785143700-1785145500@alexandriaky.gov
SUMMARY:Chair Yoga
DESCRIPTION:
URL:https://alexandriaky.gov/event/chair-yoga/2026-07-27/
LOCATION:Calvin A. Perry Community Center\, 8236 W. Main Street\, Alexandria\, KY\, 41001\, United States
CATEGORIES:Community Center
ATTACH;FMTTYPE=image/jpeg:https://alexandriaky.gov/wp-content/uploads/2024/12/chair-yoga-flyer.resize.jpg
END:VEVENT
BEGIN:VEVENT
DTSTART;TZID=America/New_York:20260727T101500
DTEND;TZID=America/New_York:20260727T110000
DTSTAMP:20260419T141155
CREATED:20260205T161632Z
LAST-MODIFIED:20260205T161632Z
UID:10002116-1785147300-1785150000@alexandriaky.gov
SUMMARY:Fit-4-Life
DESCRIPTION:
URL:https://alexandriaky.gov/event/fit-4-life/2026-07-27/
LOCATION:Calvin A. Perry Community Center\, 8236 W. Main Street\, Alexandria\, KY\, 41001\, United States
CATEGORIES:Community Center
ATTACH;FMTTYPE=image/jpeg:https://alexandriaky.gov/wp-content/uploads/2026/02/2025-Fit-for-life-flyer.resize.jpg
END:VEVENT
BEGIN:VEVENT
DTSTART;TZID=America/New_York:20260727T120000
DTEND;TZID=America/New_York:20260727T144500
DTSTAMP:20260419T141155
CREATED:20260205T162616Z
LAST-MODIFIED:20260205T162616Z
UID:10002494-1785153600-1785163500@alexandriaky.gov
SUMMARY:Afternoon Chair Volleyball
DESCRIPTION:
URL:https://alexandriaky.gov/event/afternoon-chair-volleyball/2026-07-27/
LOCATION:Calvin A. Perry Community Center\, 8236 W. Main Street\, Alexandria\, KY\, 41001\, United States
CATEGORIES:Community Center
ATTACH;FMTTYPE=image/jpeg:https://alexandriaky.gov/wp-content/uploads/2026/02/1_30_25_Ch-Volley-Flyer.resize.jpg
END:VEVENT
BEGIN:VEVENT
DTSTART;TZID=America/New_York:20260727T120000
DTEND;TZID=America/New_York:20260727T144500
DTSTAMP:20260419T141155
CREATED:20260205T162925Z
LAST-MODIFIED:20260205T162925Z
UID:10002590-1785153600-1785163500@alexandriaky.gov
SUMMARY:Afternoon Pickleball
DESCRIPTION:
URL:https://alexandriaky.gov/event/afternoon-pickleball/2026-07-27/
LOCATION:Calvin A. Perry Community Center\, 8236 W. Main Street\, Alexandria\, KY\, 41001\, United States
CATEGORIES:Community Center
ATTACH;FMTTYPE=image/jpeg:https://alexandriaky.gov/wp-content/uploads/2026/02/picklleball-flyer-1_30_25.resize.jpg
END:VEVENT
BEGIN:VEVENT
DTSTART;TZID=America/New_York:20260728T090000
DTEND;TZID=America/New_York:20260728T094500
DTSTAMP:20260419T141155
CREATED:20260205T163310Z
LAST-MODIFIED:20260205T163310Z
UID:10002686-1785229200-1785231900@alexandriaky.gov
SUMMARY:Morning Chair Volleyball
DESCRIPTION:
URL:https://alexandriaky.gov/event/morning-chair-volleyball/2026-07-28/
LOCATION:Calvin A. Perry Community Center\, 8236 W. Main Street\, Alexandria\, KY\, 41001\, United States
CATEGORIES:Community Center
ATTACH;FMTTYPE=image/jpeg:https://alexandriaky.gov/wp-content/uploads/2026/02/1_30_25_Ch-Volley-Flyer.resize.jpg
END:VEVENT
BEGIN:VEVENT
DTSTART;TZID=America/New_York:20260728T100000
DTEND;TZID=America/New_York:20260728T120000
DTSTAMP:20260419T141155
CREATED:20260205T163713Z
LAST-MODIFIED:20260205T163713Z
UID:10002782-1785232800-1785240000@alexandriaky.gov
SUMMARY:Morning Pickleball
DESCRIPTION:
URL:https://alexandriaky.gov/event/morning-pickleball/2026-07-28/
LOCATION:Calvin A. Perry Community Center\, 8236 W. Main Street\, Alexandria\, KY\, 41001\, United States
CATEGORIES:Community Center
ATTACH;FMTTYPE=image/jpeg:https://alexandriaky.gov/wp-content/uploads/2026/02/picklleball-flyer-1_30_25.resize.jpg
END:VEVENT
BEGIN:VEVENT
DTSTART;TZID=America/New_York:20260729T091500
DTEND;TZID=America/New_York:20260729T094500
DTSTAMP:20260419T141155
CREATED:20260205T160036Z
LAST-MODIFIED:20260205T161054Z
UID:10002068-1785316500-1785318300@alexandriaky.gov
SUMMARY:Chair Yoga
DESCRIPTION:
URL:https://alexandriaky.gov/event/chair-yoga-3/2026-07-29/
LOCATION:Calvin A. Perry Community Center\, 8236 W. Main Street\, Alexandria\, KY\, 41001\, United States
CATEGORIES:Community Center
ATTACH;FMTTYPE=image/jpeg:https://alexandriaky.gov/wp-content/uploads/2024/12/chair-yoga-flyer.resize.jpg
END:VEVENT
BEGIN:VEVENT
DTSTART;TZID=America/New_York:20260729T101500
DTEND;TZID=America/New_York:20260729T110000
DTSTAMP:20260419T141155
CREATED:20260205T162139Z
LAST-MODIFIED:20260205T164726Z
UID:10002314-1785320100-1785322800@alexandriaky.gov
SUMMARY:Fit-4-Life
DESCRIPTION:
URL:https://alexandriaky.gov/event/fit-4-life-2/2026-07-29/
LOCATION:Calvin A. Perry Community Center\, 8236 W. Main Street\, Alexandria\, KY\, 41001\, United States
CATEGORIES:Community Center
ATTACH;FMTTYPE=image/jpeg:https://alexandriaky.gov/wp-content/uploads/2026/02/2025-Fit-for-life-flyer.resize.jpg
END:VEVENT
BEGIN:VEVENT
DTSTART;TZID=America/New_York:20260729T120000
DTEND;TZID=America/New_York:20260729T144500
DTSTAMP:20260419T141155
CREATED:20260205T162727Z
LAST-MODIFIED:20260205T162727Z
UID:10002542-1785326400-1785336300@alexandriaky.gov
SUMMARY:Afternoon Chair Volleyball
DESCRIPTION:
URL:https://alexandriaky.gov/event/afternoon-chair-volleyball-2/2026-07-29/
LOCATION:Calvin A. Perry Community Center\, 8236 W. Main Street\, Alexandria\, KY\, 41001\, United States
CATEGORIES:Community Center
ATTACH;FMTTYPE=image/jpeg:https://alexandriaky.gov/wp-content/uploads/2026/02/1_30_25_Ch-Volley-Flyer.resize.jpg
END:VEVENT
BEGIN:VEVENT
DTSTART;TZID=America/New_York:20260729T120000
DTEND;TZID=America/New_York:20260729T144500
DTSTAMP:20260419T141155
CREATED:20260205T163149Z
LAST-MODIFIED:20260205T164833Z
UID:10002925-1785326400-1785336300@alexandriaky.gov
SUMMARY:Afternoon Pickleball
DESCRIPTION:
URL:https://alexandriaky.gov/event/afternoon-pickleball-2/2026-07-29/
LOCATION:Calvin A. Perry Community Center\, 8236 W. Main Street\, Alexandria\, KY\, 41001\, United States
CATEGORIES:Community Center
ATTACH;FMTTYPE=image/jpeg:https://alexandriaky.gov/wp-content/uploads/2026/02/picklleball-flyer-1_30_25.resize.jpg
END:VEVENT
BEGIN:VEVENT
DTSTART;TZID=America/New_York:20260730T090000
DTEND;TZID=America/New_York:20260730T103000
DTSTAMP:20260419T141155
CREATED:20260205T163452Z
LAST-MODIFIED:20260205T163452Z
UID:10002734-1785402000-1785407400@alexandriaky.gov
SUMMARY:Morning Chair Volleyball
DESCRIPTION:
URL:https://alexandriaky.gov/event/morning-chair-volleyball-2/2026-07-30/
LOCATION:Calvin A. Perry Community Center\, 8236 W. Main Street\, Alexandria\, KY\, 41001\, United States
CATEGORIES:Community Center
ATTACH;FMTTYPE=image/jpeg:https://alexandriaky.gov/wp-content/uploads/2026/02/1_30_25_Ch-Volley-Flyer.resize.jpg
END:VEVENT
BEGIN:VEVENT
DTSTART;TZID=America/New_York:20260730T100000
DTEND;TZID=America/New_York:20260730T120000
DTSTAMP:20260419T141155
CREATED:20260205T163826Z
LAST-MODIFIED:20260205T163826Z
UID:10002830-1785405600-1785412800@alexandriaky.gov
SUMMARY:Morning Pickleball
DESCRIPTION:
URL:https://alexandriaky.gov/event/morning-pickleball-2/2026-07-30/
LOCATION:Calvin A. Perry Community Center\, 8236 W. Main Street\, Alexandria\, KY\, 41001\, United States
CATEGORIES:Community Center
ATTACH;FMTTYPE=image/jpeg:https://alexandriaky.gov/wp-content/uploads/2026/02/picklleball-flyer-1_30_25.resize.jpg
END:VEVENT
BEGIN:VEVENT
DTSTART;TZID=America/New_York:20260731T091500
DTEND;TZID=America/New_York:20260731T100000
DTSTAMP:20260419T141155
CREATED:20260205T164051Z
LAST-MODIFIED:20260205T164051Z
UID:10002878-1785489300-1785492000@alexandriaky.gov
SUMMARY:Drum Fun
DESCRIPTION:
URL:https://alexandriaky.gov/event/drum-fun/2026-07-31/
LOCATION:Calvin A. Perry Community Center\, 8236 W. Main Street\, Alexandria\, KY\, 41001\, United States
CATEGORIES:Community Center
ATTACH;FMTTYPE=image/jpeg:https://alexandriaky.gov/wp-content/uploads/2026/02/DrumFun-Flyer-1_30_25.resize.jpg
END:VEVENT
END:VCALENDAR