BEGIN:VCALENDAR
VERSION:2.0
PRODID:-//City of Alexandria Kentucky - ECPv6.15.20//NONSGML v1.0//EN
CALSCALE:GREGORIAN
METHOD:PUBLISH
X-WR-CALNAME:City of Alexandria Kentucky
X-ORIGINAL-URL:https://alexandriaky.gov
X-WR-CALDESC:Events for City of Alexandria Kentucky
REFRESH-INTERVAL;VALUE=DURATION:PT1H
X-Robots-Tag:noindex
X-PUBLISHED-TTL:PT1H
BEGIN:VTIMEZONE
TZID:America/New_York
BEGIN:DAYLIGHT
TZOFFSETFROM:-0500
TZOFFSETTO:-0400
TZNAME:EDT
DTSTART:20240310T070000
END:DAYLIGHT
BEGIN:STANDARD
TZOFFSETFROM:-0400
TZOFFSETTO:-0500
TZNAME:EST
DTSTART:20241103T060000
END:STANDARD
BEGIN:DAYLIGHT
TZOFFSETFROM:-0500
TZOFFSETTO:-0400
TZNAME:EDT
DTSTART:20250309T070000
END:DAYLIGHT
BEGIN:STANDARD
TZOFFSETFROM:-0400
TZOFFSETTO:-0500
TZNAME:EST
DTSTART:20251102T060000
END:STANDARD
BEGIN:DAYLIGHT
TZOFFSETFROM:-0500
TZOFFSETTO:-0400
TZNAME:EDT
DTSTART:20260308T070000
END:DAYLIGHT
BEGIN:STANDARD
TZOFFSETFROM:-0400
TZOFFSETTO:-0500
TZNAME:EST
DTSTART:20261101T060000
END:STANDARD
END:VTIMEZONE
BEGIN:VEVENT
DTSTART;TZID=America/New_York:20251118T190000
DTEND;TZID=America/New_York:20251118T200000
DTSTAMP:20260419T214621
CREATED:20241212T200904Z
LAST-MODIFIED:20251118T183535Z
UID:10001166-1763492400-1763496000@alexandriaky.gov
SUMMARY:Planning & Zoning Commission - CANCELLED
DESCRIPTION:MEETING CANCELLED
URL:https://alexandriaky.gov/event/planning-zoning-commission-47/
LOCATION:Alexandria City Building\, 8236 West Main Street\, Alexandria\, KY\, 41001
END:VEVENT
BEGIN:VEVENT
DTSTART;TZID=America/New_York:20251120T180000
DTEND;TZID=America/New_York:20251120T183000
DTSTAMP:20260419T214621
CREATED:20250218T130439Z
LAST-MODIFIED:20251118T185314Z
UID:10001241-1763661600-1763663400@alexandriaky.gov
SUMMARY:Public Works Committee Meeting
DESCRIPTION:Agenda
URL:https://alexandriaky.gov/event/public-works-committee-meeting-29/
LOCATION:Alexandria City Building\, 8236 West Main Street\, Alexandria\, KY\, 41001
END:VEVENT
BEGIN:VEVENT
DTSTART;TZID=America/New_York:20251120T183000
DTEND;TZID=America/New_York:20251120T190000
DTSTAMP:20260419T214621
CREATED:20250218T130854Z
LAST-MODIFIED:20251118T205533Z
UID:10001249-1763663400-1763665200@alexandriaky.gov
SUMMARY:Safety Committee Meeting - CANCELLED
DESCRIPTION:MEETING CANCELLED
URL:https://alexandriaky.gov/event/safety-committee-meeting-12/
LOCATION:Alexandria City Building\, 8236 West Main Street\, Alexandria\, KY\, 41001
END:VEVENT
BEGIN:VEVENT
DTSTART;TZID=America/New_York:20251120T190000
DTEND;TZID=America/New_York:20251120T200000
DTSTAMP:20260419T214621
CREATED:20241212T195358Z
LAST-MODIFIED:20251118T205658Z
UID:10001144-1763665200-1763668800@alexandriaky.gov
SUMMARY:City Council
DESCRIPTION:Agenda
URL:https://alexandriaky.gov/event/city-council-49/
LOCATION:Alexandria City Building\, 8236 West Main Street\, Alexandria\, KY\, 41001
END:VEVENT
END:VCALENDAR