BEGIN:VCALENDAR
VERSION:2.0
PRODID:-//City of Alexandria Kentucky - ECPv6.15.20//NONSGML v1.0//EN
CALSCALE:GREGORIAN
METHOD:PUBLISH
X-ORIGINAL-URL:https://alexandriaky.gov
X-WR-CALDESC:Events for City of Alexandria Kentucky
REFRESH-INTERVAL;VALUE=DURATION:PT1H
X-Robots-Tag:noindex
X-PUBLISHED-TTL:PT1H
BEGIN:VTIMEZONE
TZID:America/New_York
BEGIN:DAYLIGHT
TZOFFSETFROM:-0500
TZOFFSETTO:-0400
TZNAME:EDT
DTSTART:20240310T070000
END:DAYLIGHT
BEGIN:STANDARD
TZOFFSETFROM:-0400
TZOFFSETTO:-0500
TZNAME:EST
DTSTART:20241103T060000
END:STANDARD
BEGIN:DAYLIGHT
TZOFFSETFROM:-0500
TZOFFSETTO:-0400
TZNAME:EDT
DTSTART:20250309T070000
END:DAYLIGHT
BEGIN:STANDARD
TZOFFSETFROM:-0400
TZOFFSETTO:-0500
TZNAME:EST
DTSTART:20251102T060000
END:STANDARD
BEGIN:DAYLIGHT
TZOFFSETFROM:-0500
TZOFFSETTO:-0400
TZNAME:EDT
DTSTART:20260308T070000
END:DAYLIGHT
BEGIN:STANDARD
TZOFFSETFROM:-0400
TZOFFSETTO:-0500
TZNAME:EST
DTSTART:20261101T060000
END:STANDARD
END:VTIMEZONE
BEGIN:VEVENT
DTSTART;TZID=America/New_York:20251104T190000
DTEND;TZID=America/New_York:20251104T200000
DTSTAMP:20260420T025708
CREATED:20241212T201338Z
LAST-MODIFIED:20251103T130351Z
UID:10001170-1762282800-1762286400@alexandriaky.gov
SUMMARY:Planning & Zoning Commission
DESCRIPTION:Agenda
URL:https://alexandriaky.gov/event/planning-zoning-commission-51/
LOCATION:Alexandria City Building\, 8236 West Main Street\, Alexandria\, KY\, 41001
END:VEVENT
BEGIN:VEVENT
DTSTART;TZID=America/New_York:20251105T190000
DTEND;TZID=America/New_York:20251105T200000
DTSTAMP:20260420T025708
CREATED:20241212T203302Z
LAST-MODIFIED:20251103T130509Z
UID:10001183-1762369200-1762372800@alexandriaky.gov
SUMMARY:Park & Recreation Board
DESCRIPTION:Agenda
URL:https://alexandriaky.gov/event/park-recreation-board-29/
LOCATION:Alexandria City Building\, 8236 West Main Street\, Alexandria\, KY\, 41001
END:VEVENT
BEGIN:VEVENT
DTSTART;TZID=America/New_York:20251106T180000
DTEND;TZID=America/New_York:20251106T190000
DTSTAMP:20260420T025708
CREATED:20250218T130124Z
LAST-MODIFIED:20251104T194448Z
UID:10001234-1762452000-1762455600@alexandriaky.gov
SUMMARY:Business Retention & Development Committee Meeting
DESCRIPTION:Agenda
URL:https://alexandriaky.gov/event/business-retention-development-committee-meeting-5/
LOCATION:Alexandria City Building\, 8236 West Main Street\, Alexandria\, KY\, 41001
END:VEVENT
BEGIN:VEVENT
DTSTART;TZID=America/New_York:20251106T190000
DTEND;TZID=America/New_York:20251106T200000
DTSTAMP:20260420T025708
CREATED:20241212T195329Z
LAST-MODIFIED:20251104T194357Z
UID:10001143-1762455600-1762459200@alexandriaky.gov
SUMMARY:City Council
DESCRIPTION:Agenda
URL:https://alexandriaky.gov/event/city-council-48/
LOCATION:Alexandria City Building\, 8236 West Main Street\, Alexandria\, KY\, 41001
END:VEVENT
END:VCALENDAR