BEGIN:VCALENDAR
VERSION:2.0
PRODID:-//City of Alexandria Kentucky - ECPv6.15.20//NONSGML v1.0//EN
CALSCALE:GREGORIAN
METHOD:PUBLISH
X-WR-CALNAME:City of Alexandria Kentucky
X-ORIGINAL-URL:https://alexandriaky.gov
X-WR-CALDESC:Events for City of Alexandria Kentucky
REFRESH-INTERVAL;VALUE=DURATION:PT1H
X-Robots-Tag:noindex
X-PUBLISHED-TTL:PT1H
BEGIN:VTIMEZONE
TZID:America/New_York
BEGIN:DAYLIGHT
TZOFFSETFROM:-0500
TZOFFSETTO:-0400
TZNAME:EDT
DTSTART:20240310T070000
END:DAYLIGHT
BEGIN:STANDARD
TZOFFSETFROM:-0400
TZOFFSETTO:-0500
TZNAME:EST
DTSTART:20241103T060000
END:STANDARD
BEGIN:DAYLIGHT
TZOFFSETFROM:-0500
TZOFFSETTO:-0400
TZNAME:EDT
DTSTART:20250309T070000
END:DAYLIGHT
BEGIN:STANDARD
TZOFFSETFROM:-0400
TZOFFSETTO:-0500
TZNAME:EST
DTSTART:20251102T060000
END:STANDARD
BEGIN:DAYLIGHT
TZOFFSETFROM:-0500
TZOFFSETTO:-0400
TZNAME:EDT
DTSTART:20260308T070000
END:DAYLIGHT
BEGIN:STANDARD
TZOFFSETFROM:-0400
TZOFFSETTO:-0500
TZNAME:EST
DTSTART:20261101T060000
END:STANDARD
END:VTIMEZONE
BEGIN:VEVENT
DTSTART;TZID=America/New_York:20251021T190000
DTEND;TZID=America/New_York:20251021T200000
DTSTAMP:20260420T205459
CREATED:20241212T201209Z
LAST-MODIFIED:20251017T181817Z
UID:10001169-1761073200-1761076800@alexandriaky.gov
SUMMARY:Planning & Zoning Commission
DESCRIPTION:Agenda
URL:https://alexandriaky.gov/event/planning-zoning-commission-50/
LOCATION:Alexandria City Building\, 8236 West Main Street\, Alexandria\, KY\, 41001
END:VEVENT
BEGIN:VEVENT
DTSTART;TZID=America/New_York:20251023T190000
DTEND;TZID=America/New_York:20251023T200000
DTSTAMP:20260420T205459
CREATED:20241212T210312Z
LAST-MODIFIED:20251017T182249Z
UID:10001207-1761246000-1761249600@alexandriaky.gov
SUMMARY:Property Maintenance Board of Appeals
DESCRIPTION:Agenda
URL:https://alexandriaky.gov/event/property-maintenance-board-of-appeals-9/
LOCATION:Alexandria City Building\, 8236 West Main Street\, Alexandria\, KY\, 41001
END:VEVENT
BEGIN:VEVENT
DTSTART;TZID=America/New_York:20251025T100000
DTEND;TZID=America/New_York:20251025T140000
DTSTAMP:20260420T205459
CREATED:20250924T153718Z
LAST-MODIFIED:20250930T125851Z
UID:10001279-1761386400-1761400800@alexandriaky.gov
SUMMARY:DEA Drug Take Back
DESCRIPTION:
URL:https://alexandriaky.gov/event/dea-drug-take-back/
LOCATION:Calvin A. Perry Community Center\, 8236 W. Main Street\, Alexandria\, KY\, 41001\, United States
END:VEVENT
BEGIN:VEVENT
DTSTART;TZID=America/New_York:20251025T193000
DTEND;TZID=America/New_York:20251025T213000
DTSTAMP:20260420T205459
CREATED:20250924T154152Z
LAST-MODIFIED:20250930T125925Z
UID:10001280-1761420600-1761427800@alexandriaky.gov
SUMMARY:Haunted Walk
DESCRIPTION:
URL:https://alexandriaky.gov/event/haunted-walk-4/
LOCATION:Alexandria Community Park 3965 Alexandria Dr.\, Alexandria KY\, 3965 Alexandria Drive\, Alexandria\, KY\, 41001\, United States
END:VEVENT
END:VCALENDAR