BEGIN:VCALENDAR
VERSION:2.0
PRODID:-//City of Alexandria Kentucky - ECPv6.15.20//NONSGML v1.0//EN
CALSCALE:GREGORIAN
METHOD:PUBLISH
X-ORIGINAL-URL:https://alexandriaky.gov
X-WR-CALDESC:Events for City of Alexandria Kentucky
REFRESH-INTERVAL;VALUE=DURATION:PT1H
X-Robots-Tag:noindex
X-PUBLISHED-TTL:PT1H
BEGIN:VTIMEZONE
TZID:America/New_York
BEGIN:DAYLIGHT
TZOFFSETFROM:-0500
TZOFFSETTO:-0400
TZNAME:EDT
DTSTART:20240310T070000
END:DAYLIGHT
BEGIN:STANDARD
TZOFFSETFROM:-0400
TZOFFSETTO:-0500
TZNAME:EST
DTSTART:20241103T060000
END:STANDARD
BEGIN:DAYLIGHT
TZOFFSETFROM:-0500
TZOFFSETTO:-0400
TZNAME:EDT
DTSTART:20250309T070000
END:DAYLIGHT
BEGIN:STANDARD
TZOFFSETFROM:-0400
TZOFFSETTO:-0500
TZNAME:EST
DTSTART:20251102T060000
END:STANDARD
BEGIN:DAYLIGHT
TZOFFSETFROM:-0500
TZOFFSETTO:-0400
TZNAME:EDT
DTSTART:20260308T070000
END:DAYLIGHT
BEGIN:STANDARD
TZOFFSETFROM:-0400
TZOFFSETTO:-0500
TZNAME:EST
DTSTART:20261101T060000
END:STANDARD
END:VTIMEZONE
BEGIN:VEVENT
DTSTART;TZID=America/New_York:20250916T190000
DTEND;TZID=America/New_York:20250916T200000
DTSTAMP:20260420T130802
CREATED:20241212T200828Z
LAST-MODIFIED:20250912T124307Z
UID:10001165-1758049200-1758052800@alexandriaky.gov
SUMMARY:Planning & Zoning Commission
DESCRIPTION:Agenda
URL:https://alexandriaky.gov/event/planning-zoning-commission-46/
LOCATION:Alexandria City Building\, 8236 West Main Street\, Alexandria\, KY\, 41001
END:VEVENT
BEGIN:VEVENT
DTSTART;TZID=America/New_York:20250918T180000
DTEND;TZID=America/New_York:20250918T183000
DTSTAMP:20260420T130802
CREATED:20250218T130351Z
LAST-MODIFIED:20250917T155034Z
UID:10001239-1758218400-1758220200@alexandriaky.gov
SUMMARY:Public Works Committee Meeting
DESCRIPTION:Agenda
URL:https://alexandriaky.gov/event/public-works-committee-meeting-27/
LOCATION:Alexandria City Building\, 8236 West Main Street\, Alexandria\, KY\, 41001
END:VEVENT
BEGIN:VEVENT
DTSTART;TZID=America/New_York:20250918T183000
DTEND;TZID=America/New_York:20250918T190000
DTSTAMP:20260420T130802
CREATED:20250218T130829Z
LAST-MODIFIED:20250917T154953Z
UID:10001248-1758220200-1758222000@alexandriaky.gov
SUMMARY:Safety Committee Meeting
DESCRIPTION:Agenda
URL:https://alexandriaky.gov/event/safety-committee-meeting-11/
LOCATION:Alexandria City Building\, 8236 West Main Street\, Alexandria\, KY\, 41001
END:VEVENT
BEGIN:VEVENT
DTSTART;TZID=America/New_York:20250918T190000
DTEND;TZID=America/New_York:20250918T200000
DTSTAMP:20260420T130802
CREATED:20241212T195220Z
LAST-MODIFIED:20250918T120705Z
UID:10001141-1758222000-1758225600@alexandriaky.gov
SUMMARY:City Council
DESCRIPTION:AMENDED AGENDA
URL:https://alexandriaky.gov/event/city-council-46/
LOCATION:Alexandria City Building\, 8236 West Main Street\, Alexandria\, KY\, 41001
END:VEVENT
END:VCALENDAR