BEGIN:VCALENDAR
VERSION:2.0
PRODID:-//City of Alexandria Kentucky - ECPv6.15.20//NONSGML v1.0//EN
CALSCALE:GREGORIAN
METHOD:PUBLISH
X-ORIGINAL-URL:https://alexandriaky.gov
X-WR-CALDESC:Events for City of Alexandria Kentucky
REFRESH-INTERVAL;VALUE=DURATION:PT1H
X-Robots-Tag:noindex
X-PUBLISHED-TTL:PT1H
BEGIN:VTIMEZONE
TZID:America/New_York
BEGIN:DAYLIGHT
TZOFFSETFROM:-0500
TZOFFSETTO:-0400
TZNAME:EDT
DTSTART:20240310T070000
END:DAYLIGHT
BEGIN:STANDARD
TZOFFSETFROM:-0400
TZOFFSETTO:-0500
TZNAME:EST
DTSTART:20241103T060000
END:STANDARD
BEGIN:DAYLIGHT
TZOFFSETFROM:-0500
TZOFFSETTO:-0400
TZNAME:EDT
DTSTART:20250309T070000
END:DAYLIGHT
BEGIN:STANDARD
TZOFFSETFROM:-0400
TZOFFSETTO:-0500
TZNAME:EST
DTSTART:20251102T060000
END:STANDARD
BEGIN:DAYLIGHT
TZOFFSETFROM:-0500
TZOFFSETTO:-0400
TZNAME:EDT
DTSTART:20260308T070000
END:DAYLIGHT
BEGIN:STANDARD
TZOFFSETFROM:-0400
TZOFFSETTO:-0500
TZNAME:EST
DTSTART:20261101T060000
END:STANDARD
END:VTIMEZONE
BEGIN:VEVENT
DTSTART;TZID=America/New_York:20250722T190000
DTEND;TZID=America/New_York:20250722T200000
DTSTAMP:20260425T180348
CREATED:20250626T130128Z
LAST-MODIFIED:20250626T130128Z
UID:10001269-1753210800-1753214400@alexandriaky.gov
SUMMARY:FREE Yoga in the Park
DESCRIPTION:
URL:https://alexandriaky.gov/event/free-yoga-in-the-park-4/
LOCATION:Alexandria Community Park 3965 Alexandria Dr.\, Alexandria KY\, 3965 Alexandria Drive\, Alexandria\, KY\, 41001\, United States
END:VEVENT
BEGIN:VEVENT
DTSTART;TZID=America/New_York:20250724T104500
DTEND;TZID=America/New_York:20250724T114500
DTSTAMP:20260425T180348
CREATED:20250626T130209Z
LAST-MODIFIED:20250626T130209Z
UID:10001270-1753353900-1753357500@alexandriaky.gov
SUMMARY:Kids Art in the Park
DESCRIPTION:
URL:https://alexandriaky.gov/event/kids-art-in-the-park-3/
LOCATION:Alexandria Community Park 3965 Alexandria Dr.\, Alexandria KY\, 3965 Alexandria Drive\, Alexandria\, KY\, 41001\, United States
END:VEVENT
BEGIN:VEVENT
DTSTART;TZID=America/New_York:20250724T190000
DTEND;TZID=America/New_York:20250724T200000
DTSTAMP:20260425T180348
CREATED:20241212T210243Z
LAST-MODIFIED:20250722T181012Z
UID:10001206-1753383600-1753387200@alexandriaky.gov
SUMMARY:Property Maintenance Board of Appeals - CANCELLED
DESCRIPTION:MEETING CANCELLED
URL:https://alexandriaky.gov/event/property-maintenance-board-of-appeals-8/
LOCATION:Alexandria City Building\, 8236 West Main Street\, Alexandria\, KY\, 41001
END:VEVENT
END:VCALENDAR