BEGIN:VCALENDAR
VERSION:2.0
PRODID:-//City of Alexandria Kentucky - ECPv6.15.20//NONSGML v1.0//EN
CALSCALE:GREGORIAN
METHOD:PUBLISH
X-ORIGINAL-URL:https://alexandriaky.gov
X-WR-CALDESC:Events for City of Alexandria Kentucky
REFRESH-INTERVAL;VALUE=DURATION:PT1H
X-Robots-Tag:noindex
X-PUBLISHED-TTL:PT1H
BEGIN:VTIMEZONE
TZID:America/New_York
BEGIN:DAYLIGHT
TZOFFSETFROM:-0500
TZOFFSETTO:-0400
TZNAME:EDT
DTSTART:20250309T070000
END:DAYLIGHT
BEGIN:STANDARD
TZOFFSETFROM:-0400
TZOFFSETTO:-0500
TZNAME:EST
DTSTART:20251102T060000
END:STANDARD
BEGIN:DAYLIGHT
TZOFFSETFROM:-0500
TZOFFSETTO:-0400
TZNAME:EDT
DTSTART:20260308T070000
END:DAYLIGHT
BEGIN:STANDARD
TZOFFSETFROM:-0400
TZOFFSETTO:-0500
TZNAME:EST
DTSTART:20261101T060000
END:STANDARD
BEGIN:DAYLIGHT
TZOFFSETFROM:-0500
TZOFFSETTO:-0400
TZNAME:EDT
DTSTART:20270314T070000
END:DAYLIGHT
BEGIN:STANDARD
TZOFFSETFROM:-0400
TZOFFSETTO:-0500
TZNAME:EST
DTSTART:20271107T060000
END:STANDARD
END:VTIMEZONE
BEGIN:VEVENT
DTSTART;TZID=America/New_York:20260915T090000
DTEND;TZID=America/New_York:20260915T094500
DTSTAMP:20260421T142900
CREATED:20260205T163310Z
LAST-MODIFIED:20260205T163310Z
UID:10002693-1789462800-1789465500@alexandriaky.gov
SUMMARY:Morning Chair Volleyball
DESCRIPTION:
URL:https://alexandriaky.gov/event/morning-chair-volleyball/2026-09-15/
LOCATION:Calvin A. Perry Community Center\, 8236 W. Main Street\, Alexandria\, KY\, 41001\, United States
CATEGORIES:Community Center
ATTACH;FMTTYPE=image/jpeg:https://alexandriaky.gov/wp-content/uploads/2026/02/1_30_25_Ch-Volley-Flyer.resize.jpg
END:VEVENT
BEGIN:VEVENT
DTSTART;TZID=America/New_York:20260915T100000
DTEND;TZID=America/New_York:20260915T120000
DTSTAMP:20260421T142900
CREATED:20260205T163713Z
LAST-MODIFIED:20260205T163713Z
UID:10002789-1789466400-1789473600@alexandriaky.gov
SUMMARY:Morning Pickleball
DESCRIPTION:
URL:https://alexandriaky.gov/event/morning-pickleball/2026-09-15/
LOCATION:Calvin A. Perry Community Center\, 8236 W. Main Street\, Alexandria\, KY\, 41001\, United States
CATEGORIES:Community Center
ATTACH;FMTTYPE=image/jpeg:https://alexandriaky.gov/wp-content/uploads/2026/02/picklleball-flyer-1_30_25.resize.jpg
END:VEVENT
BEGIN:VEVENT
DTSTART;TZID=America/New_York:20260915T190000
DTEND;TZID=America/New_York:20260915T200000
DTSTAMP:20260421T142900
CREATED:20251209T185403Z
LAST-MODIFIED:20251209T185403Z
UID:10001308-1789498800-1789502400@alexandriaky.gov
SUMMARY:Planning & Zoning Commission
DESCRIPTION:
URL:https://alexandriaky.gov/event/planning-zoning-commission-54/2026-09-15/
LOCATION:Alexandria City Building\, 8236 West Main Street\, Alexandria\, KY\, 41001
END:VEVENT
BEGIN:VEVENT
DTSTART;TZID=America/New_York:20260916T091500
DTEND;TZID=America/New_York:20260916T094500
DTSTAMP:20260421T142900
CREATED:20260205T160036Z
LAST-MODIFIED:20260205T161054Z
UID:10002075-1789550100-1789551900@alexandriaky.gov
SUMMARY:Chair Yoga
DESCRIPTION:
URL:https://alexandriaky.gov/event/chair-yoga-3/2026-09-16/
LOCATION:Calvin A. Perry Community Center\, 8236 W. Main Street\, Alexandria\, KY\, 41001\, United States
CATEGORIES:Community Center
ATTACH;FMTTYPE=image/jpeg:https://alexandriaky.gov/wp-content/uploads/2024/12/chair-yoga-flyer.resize.jpg
END:VEVENT
BEGIN:VEVENT
DTSTART;TZID=America/New_York:20260916T101500
DTEND;TZID=America/New_York:20260916T110000
DTSTAMP:20260421T142900
CREATED:20260205T162139Z
LAST-MODIFIED:20260205T164726Z
UID:10002363-1789553700-1789556400@alexandriaky.gov
SUMMARY:Fit-4-Life
DESCRIPTION:
URL:https://alexandriaky.gov/event/fit-4-life-2/2026-09-16/
LOCATION:Calvin A. Perry Community Center\, 8236 W. Main Street\, Alexandria\, KY\, 41001\, United States
CATEGORIES:Community Center
ATTACH;FMTTYPE=image/jpeg:https://alexandriaky.gov/wp-content/uploads/2026/02/2025-Fit-for-life-flyer.resize.jpg
END:VEVENT
BEGIN:VEVENT
DTSTART;TZID=America/New_York:20260916T120000
DTEND;TZID=America/New_York:20260916T144500
DTSTAMP:20260421T142900
CREATED:20260205T162727Z
LAST-MODIFIED:20260205T162727Z
UID:10002549-1789560000-1789569900@alexandriaky.gov
SUMMARY:Afternoon Chair Volleyball
DESCRIPTION:
URL:https://alexandriaky.gov/event/afternoon-chair-volleyball-2/2026-09-16/
LOCATION:Calvin A. Perry Community Center\, 8236 W. Main Street\, Alexandria\, KY\, 41001\, United States
CATEGORIES:Community Center
ATTACH;FMTTYPE=image/jpeg:https://alexandriaky.gov/wp-content/uploads/2026/02/1_30_25_Ch-Volley-Flyer.resize.jpg
END:VEVENT
BEGIN:VEVENT
DTSTART;TZID=America/New_York:20260916T120000
DTEND;TZID=America/New_York:20260916T144500
DTSTAMP:20260421T142900
CREATED:20260205T163149Z
LAST-MODIFIED:20260205T164833Z
UID:10002932-1789560000-1789569900@alexandriaky.gov
SUMMARY:Afternoon Pickleball
DESCRIPTION:
URL:https://alexandriaky.gov/event/afternoon-pickleball-2/2026-09-16/
LOCATION:Calvin A. Perry Community Center\, 8236 W. Main Street\, Alexandria\, KY\, 41001\, United States
CATEGORIES:Community Center
ATTACH;FMTTYPE=image/jpeg:https://alexandriaky.gov/wp-content/uploads/2026/02/picklleball-flyer-1_30_25.resize.jpg
END:VEVENT
BEGIN:VEVENT
DTSTART;TZID=America/New_York:20260917T090000
DTEND;TZID=America/New_York:20260917T103000
DTSTAMP:20260421T142900
CREATED:20260205T163452Z
LAST-MODIFIED:20260205T163452Z
UID:10002741-1789635600-1789641000@alexandriaky.gov
SUMMARY:Morning Chair Volleyball
DESCRIPTION:
URL:https://alexandriaky.gov/event/morning-chair-volleyball-2/2026-09-17/
LOCATION:Calvin A. Perry Community Center\, 8236 W. Main Street\, Alexandria\, KY\, 41001\, United States
CATEGORIES:Community Center
ATTACH;FMTTYPE=image/jpeg:https://alexandriaky.gov/wp-content/uploads/2026/02/1_30_25_Ch-Volley-Flyer.resize.jpg
END:VEVENT
BEGIN:VEVENT
DTSTART;TZID=America/New_York:20260917T100000
DTEND;TZID=America/New_York:20260917T120000
DTSTAMP:20260421T142900
CREATED:20260205T163826Z
LAST-MODIFIED:20260205T163826Z
UID:10002837-1789639200-1789646400@alexandriaky.gov
SUMMARY:Morning Pickleball
DESCRIPTION:
URL:https://alexandriaky.gov/event/morning-pickleball-2/2026-09-17/
LOCATION:Calvin A. Perry Community Center\, 8236 W. Main Street\, Alexandria\, KY\, 41001\, United States
CATEGORIES:Community Center
ATTACH;FMTTYPE=image/jpeg:https://alexandriaky.gov/wp-content/uploads/2026/02/picklleball-flyer-1_30_25.resize.jpg
END:VEVENT
BEGIN:VEVENT
DTSTART;TZID=America/New_York:20260917T180000
DTEND;TZID=America/New_York:20260917T183000
DTSTAMP:20260421T142900
CREATED:20251209T200316Z
LAST-MODIFIED:20251209T200316Z
UID:10001392-1789668000-1789669800@alexandriaky.gov
SUMMARY:Public Works Committee
DESCRIPTION:
URL:https://alexandriaky.gov/event/public-works-committee-23/
LOCATION:Alexandria City Building\, 8236 West Main Street\, Alexandria\, KY\, 41001
CATEGORIES:Main
END:VEVENT
BEGIN:VEVENT
DTSTART;TZID=America/New_York:20260917T183000
DTEND;TZID=America/New_York:20260917T190000
DTSTAMP:20260421T142900
CREATED:20251209T201153Z
LAST-MODIFIED:20251209T201153Z
UID:10001403-1789669800-1789671600@alexandriaky.gov
SUMMARY:Safety Committee
DESCRIPTION:
URL:https://alexandriaky.gov/event/safety-committee-10/
LOCATION:Alexandria City Building\, 8236 West Main Street\, Alexandria\, KY\, 41001
CATEGORIES:Main
END:VEVENT
BEGIN:VEVENT
DTSTART;TZID=America/New_York:20260917T190000
DTEND;TZID=America/New_York:20260917T200000
DTSTAMP:20260421T142900
CREATED:20251209T190530Z
LAST-MODIFIED:20251209T190530Z
UID:10001355-1789671600-1789675200@alexandriaky.gov
SUMMARY:City Council Meeting
DESCRIPTION:
URL:https://alexandriaky.gov/event/city-council-meeting-82/2026-09-17/
LOCATION:Alexandria City Building\, 8236 West Main Street\, Alexandria\, KY\, 41001
END:VEVENT
BEGIN:VEVENT
DTSTART;TZID=America/New_York:20260918T091500
DTEND;TZID=America/New_York:20260918T100000
DTSTAMP:20260421T142900
CREATED:20260205T164051Z
LAST-MODIFIED:20260205T164051Z
UID:10002885-1789722900-1789725600@alexandriaky.gov
SUMMARY:Drum Fun
DESCRIPTION:
URL:https://alexandriaky.gov/event/drum-fun/2026-09-18/
LOCATION:Calvin A. Perry Community Center\, 8236 W. Main Street\, Alexandria\, KY\, 41001\, United States
CATEGORIES:Community Center
ATTACH;FMTTYPE=image/jpeg:https://alexandriaky.gov/wp-content/uploads/2026/02/DrumFun-Flyer-1_30_25.resize.jpg
END:VEVENT
BEGIN:VEVENT
DTSTART;TZID=America/New_York:20260921T091500
DTEND;TZID=America/New_York:20260921T094500
DTSTAMP:20260421T142900
CREATED:20260205T155051Z
LAST-MODIFIED:20260205T160331Z
UID:10002029-1789982100-1789983900@alexandriaky.gov
SUMMARY:Chair Yoga
DESCRIPTION:
URL:https://alexandriaky.gov/event/chair-yoga/2026-09-21/
LOCATION:Calvin A. Perry Community Center\, 8236 W. Main Street\, Alexandria\, KY\, 41001\, United States
CATEGORIES:Community Center
ATTACH;FMTTYPE=image/jpeg:https://alexandriaky.gov/wp-content/uploads/2024/12/chair-yoga-flyer.resize.jpg
END:VEVENT
BEGIN:VEVENT
DTSTART;TZID=America/New_York:20260921T101500
DTEND;TZID=America/New_York:20260921T110000
DTSTAMP:20260421T142900
CREATED:20260205T161632Z
LAST-MODIFIED:20260205T161632Z
UID:10002124-1789985700-1789988400@alexandriaky.gov
SUMMARY:Fit-4-Life
DESCRIPTION:
URL:https://alexandriaky.gov/event/fit-4-life/2026-09-21/
LOCATION:Calvin A. Perry Community Center\, 8236 W. Main Street\, Alexandria\, KY\, 41001\, United States
CATEGORIES:Community Center
ATTACH;FMTTYPE=image/jpeg:https://alexandriaky.gov/wp-content/uploads/2026/02/2025-Fit-for-life-flyer.resize.jpg
END:VEVENT
BEGIN:VEVENT
DTSTART;TZID=America/New_York:20260921T120000
DTEND;TZID=America/New_York:20260921T144500
DTSTAMP:20260421T142900
CREATED:20260205T162616Z
LAST-MODIFIED:20260205T162616Z
UID:10002502-1789992000-1790001900@alexandriaky.gov
SUMMARY:Afternoon Chair Volleyball
DESCRIPTION:
URL:https://alexandriaky.gov/event/afternoon-chair-volleyball/2026-09-21/
LOCATION:Calvin A. Perry Community Center\, 8236 W. Main Street\, Alexandria\, KY\, 41001\, United States
CATEGORIES:Community Center
ATTACH;FMTTYPE=image/jpeg:https://alexandriaky.gov/wp-content/uploads/2026/02/1_30_25_Ch-Volley-Flyer.resize.jpg
END:VEVENT
BEGIN:VEVENT
DTSTART;TZID=America/New_York:20260921T120000
DTEND;TZID=America/New_York:20260921T144500
DTSTAMP:20260421T142900
CREATED:20260205T162925Z
LAST-MODIFIED:20260205T162925Z
UID:10002598-1789992000-1790001900@alexandriaky.gov
SUMMARY:Afternoon Pickleball
DESCRIPTION:
URL:https://alexandriaky.gov/event/afternoon-pickleball/2026-09-21/
LOCATION:Calvin A. Perry Community Center\, 8236 W. Main Street\, Alexandria\, KY\, 41001\, United States
CATEGORIES:Community Center
ATTACH;FMTTYPE=image/jpeg:https://alexandriaky.gov/wp-content/uploads/2026/02/picklleball-flyer-1_30_25.resize.jpg
END:VEVENT
BEGIN:VEVENT
DTSTART;TZID=America/New_York:20260922T090000
DTEND;TZID=America/New_York:20260922T094500
DTSTAMP:20260421T142900
CREATED:20260205T163310Z
LAST-MODIFIED:20260205T163310Z
UID:10002694-1790067600-1790070300@alexandriaky.gov
SUMMARY:Morning Chair Volleyball
DESCRIPTION:
URL:https://alexandriaky.gov/event/morning-chair-volleyball/2026-09-22/
LOCATION:Calvin A. Perry Community Center\, 8236 W. Main Street\, Alexandria\, KY\, 41001\, United States
CATEGORIES:Community Center
ATTACH;FMTTYPE=image/jpeg:https://alexandriaky.gov/wp-content/uploads/2026/02/1_30_25_Ch-Volley-Flyer.resize.jpg
END:VEVENT
BEGIN:VEVENT
DTSTART;TZID=America/New_York:20260922T100000
DTEND;TZID=America/New_York:20260922T120000
DTSTAMP:20260421T142900
CREATED:20260205T163713Z
LAST-MODIFIED:20260205T163713Z
UID:10002790-1790071200-1790078400@alexandriaky.gov
SUMMARY:Morning Pickleball
DESCRIPTION:
URL:https://alexandriaky.gov/event/morning-pickleball/2026-09-22/
LOCATION:Calvin A. Perry Community Center\, 8236 W. Main Street\, Alexandria\, KY\, 41001\, United States
CATEGORIES:Community Center
ATTACH;FMTTYPE=image/jpeg:https://alexandriaky.gov/wp-content/uploads/2026/02/picklleball-flyer-1_30_25.resize.jpg
END:VEVENT
BEGIN:VEVENT
DTSTART;TZID=America/New_York:20260923T091500
DTEND;TZID=America/New_York:20260923T094500
DTSTAMP:20260421T142900
CREATED:20260205T160036Z
LAST-MODIFIED:20260205T161054Z
UID:10002076-1790154900-1790156700@alexandriaky.gov
SUMMARY:Chair Yoga
DESCRIPTION:
URL:https://alexandriaky.gov/event/chair-yoga-3/2026-09-23/
LOCATION:Calvin A. Perry Community Center\, 8236 W. Main Street\, Alexandria\, KY\, 41001\, United States
CATEGORIES:Community Center
ATTACH;FMTTYPE=image/jpeg:https://alexandriaky.gov/wp-content/uploads/2024/12/chair-yoga-flyer.resize.jpg
END:VEVENT
BEGIN:VEVENT
DTSTART;TZID=America/New_York:20260923T101500
DTEND;TZID=America/New_York:20260923T110000
DTSTAMP:20260421T142900
CREATED:20260205T162139Z
LAST-MODIFIED:20260205T164726Z
UID:10002370-1790158500-1790161200@alexandriaky.gov
SUMMARY:Fit-4-Life
DESCRIPTION:
URL:https://alexandriaky.gov/event/fit-4-life-2/2026-09-23/
LOCATION:Calvin A. Perry Community Center\, 8236 W. Main Street\, Alexandria\, KY\, 41001\, United States
CATEGORIES:Community Center
ATTACH;FMTTYPE=image/jpeg:https://alexandriaky.gov/wp-content/uploads/2026/02/2025-Fit-for-life-flyer.resize.jpg
END:VEVENT
BEGIN:VEVENT
DTSTART;TZID=America/New_York:20260923T120000
DTEND;TZID=America/New_York:20260923T144500
DTSTAMP:20260421T142900
CREATED:20260205T162727Z
LAST-MODIFIED:20260205T162727Z
UID:10002550-1790164800-1790174700@alexandriaky.gov
SUMMARY:Afternoon Chair Volleyball
DESCRIPTION:
URL:https://alexandriaky.gov/event/afternoon-chair-volleyball-2/2026-09-23/
LOCATION:Calvin A. Perry Community Center\, 8236 W. Main Street\, Alexandria\, KY\, 41001\, United States
CATEGORIES:Community Center
ATTACH;FMTTYPE=image/jpeg:https://alexandriaky.gov/wp-content/uploads/2026/02/1_30_25_Ch-Volley-Flyer.resize.jpg
END:VEVENT
BEGIN:VEVENT
DTSTART;TZID=America/New_York:20260923T120000
DTEND;TZID=America/New_York:20260923T144500
DTSTAMP:20260421T142900
CREATED:20260205T163149Z
LAST-MODIFIED:20260205T164833Z
UID:10002933-1790164800-1790174700@alexandriaky.gov
SUMMARY:Afternoon Pickleball
DESCRIPTION:
URL:https://alexandriaky.gov/event/afternoon-pickleball-2/2026-09-23/
LOCATION:Calvin A. Perry Community Center\, 8236 W. Main Street\, Alexandria\, KY\, 41001\, United States
CATEGORIES:Community Center
ATTACH;FMTTYPE=image/jpeg:https://alexandriaky.gov/wp-content/uploads/2026/02/picklleball-flyer-1_30_25.resize.jpg
END:VEVENT
BEGIN:VEVENT
DTSTART;TZID=America/New_York:20260924T090000
DTEND;TZID=America/New_York:20260924T103000
DTSTAMP:20260421T142900
CREATED:20260205T163452Z
LAST-MODIFIED:20260205T163452Z
UID:10002742-1790240400-1790245800@alexandriaky.gov
SUMMARY:Morning Chair Volleyball
DESCRIPTION:
URL:https://alexandriaky.gov/event/morning-chair-volleyball-2/2026-09-24/
LOCATION:Calvin A. Perry Community Center\, 8236 W. Main Street\, Alexandria\, KY\, 41001\, United States
CATEGORIES:Community Center
ATTACH;FMTTYPE=image/jpeg:https://alexandriaky.gov/wp-content/uploads/2026/02/1_30_25_Ch-Volley-Flyer.resize.jpg
END:VEVENT
BEGIN:VEVENT
DTSTART;TZID=America/New_York:20260924T100000
DTEND;TZID=America/New_York:20260924T120000
DTSTAMP:20260421T142900
CREATED:20260205T163826Z
LAST-MODIFIED:20260205T163826Z
UID:10002838-1790244000-1790251200@alexandriaky.gov
SUMMARY:Morning Pickleball
DESCRIPTION:
URL:https://alexandriaky.gov/event/morning-pickleball-2/2026-09-24/
LOCATION:Calvin A. Perry Community Center\, 8236 W. Main Street\, Alexandria\, KY\, 41001\, United States
CATEGORIES:Community Center
ATTACH;FMTTYPE=image/jpeg:https://alexandriaky.gov/wp-content/uploads/2026/02/picklleball-flyer-1_30_25.resize.jpg
END:VEVENT
BEGIN:VEVENT
DTSTART;TZID=America/New_York:20260925T091500
DTEND;TZID=America/New_York:20260925T100000
DTSTAMP:20260421T142900
CREATED:20260205T164051Z
LAST-MODIFIED:20260205T164051Z
UID:10002886-1790327700-1790330400@alexandriaky.gov
SUMMARY:Drum Fun
DESCRIPTION:
URL:https://alexandriaky.gov/event/drum-fun/2026-09-25/
LOCATION:Calvin A. Perry Community Center\, 8236 W. Main Street\, Alexandria\, KY\, 41001\, United States
CATEGORIES:Community Center
ATTACH;FMTTYPE=image/jpeg:https://alexandriaky.gov/wp-content/uploads/2026/02/DrumFun-Flyer-1_30_25.resize.jpg
END:VEVENT
BEGIN:VEVENT
DTSTART;TZID=America/New_York:20260928T091500
DTEND;TZID=America/New_York:20260928T094500
DTSTAMP:20260421T142900
CREATED:20260205T155051Z
LAST-MODIFIED:20260205T160331Z
UID:10002030-1790586900-1790588700@alexandriaky.gov
SUMMARY:Chair Yoga
DESCRIPTION:
URL:https://alexandriaky.gov/event/chair-yoga/2026-09-28/
LOCATION:Calvin A. Perry Community Center\, 8236 W. Main Street\, Alexandria\, KY\, 41001\, United States
CATEGORIES:Community Center
ATTACH;FMTTYPE=image/jpeg:https://alexandriaky.gov/wp-content/uploads/2024/12/chair-yoga-flyer.resize.jpg
END:VEVENT
BEGIN:VEVENT
DTSTART;TZID=America/New_York:20260928T101500
DTEND;TZID=America/New_York:20260928T110000
DTSTAMP:20260421T142900
CREATED:20260205T161632Z
LAST-MODIFIED:20260205T161632Z
UID:10002125-1790590500-1790593200@alexandriaky.gov
SUMMARY:Fit-4-Life
DESCRIPTION:
URL:https://alexandriaky.gov/event/fit-4-life/2026-09-28/
LOCATION:Calvin A. Perry Community Center\, 8236 W. Main Street\, Alexandria\, KY\, 41001\, United States
CATEGORIES:Community Center
ATTACH;FMTTYPE=image/jpeg:https://alexandriaky.gov/wp-content/uploads/2026/02/2025-Fit-for-life-flyer.resize.jpg
END:VEVENT
BEGIN:VEVENT
DTSTART;TZID=America/New_York:20260928T120000
DTEND;TZID=America/New_York:20260928T144500
DTSTAMP:20260421T142900
CREATED:20260205T162616Z
LAST-MODIFIED:20260205T162616Z
UID:10002503-1790596800-1790606700@alexandriaky.gov
SUMMARY:Afternoon Chair Volleyball
DESCRIPTION:
URL:https://alexandriaky.gov/event/afternoon-chair-volleyball/2026-09-28/
LOCATION:Calvin A. Perry Community Center\, 8236 W. Main Street\, Alexandria\, KY\, 41001\, United States
CATEGORIES:Community Center
ATTACH;FMTTYPE=image/jpeg:https://alexandriaky.gov/wp-content/uploads/2026/02/1_30_25_Ch-Volley-Flyer.resize.jpg
END:VEVENT
BEGIN:VEVENT
DTSTART;TZID=America/New_York:20260928T120000
DTEND;TZID=America/New_York:20260928T144500
DTSTAMP:20260421T142900
CREATED:20260205T162925Z
LAST-MODIFIED:20260205T162925Z
UID:10002599-1790596800-1790606700@alexandriaky.gov
SUMMARY:Afternoon Pickleball
DESCRIPTION:
URL:https://alexandriaky.gov/event/afternoon-pickleball/2026-09-28/
LOCATION:Calvin A. Perry Community Center\, 8236 W. Main Street\, Alexandria\, KY\, 41001\, United States
CATEGORIES:Community Center
ATTACH;FMTTYPE=image/jpeg:https://alexandriaky.gov/wp-content/uploads/2026/02/picklleball-flyer-1_30_25.resize.jpg
END:VEVENT
END:VCALENDAR