BEGIN:VCALENDAR
VERSION:2.0
PRODID:-//City of Alexandria Kentucky - ECPv6.15.20//NONSGML v1.0//EN
CALSCALE:GREGORIAN
METHOD:PUBLISH
X-WR-CALNAME:City of Alexandria Kentucky
X-ORIGINAL-URL:https://alexandriaky.gov
X-WR-CALDESC:Events for City of Alexandria Kentucky
REFRESH-INTERVAL;VALUE=DURATION:PT1H
X-Robots-Tag:noindex
X-PUBLISHED-TTL:PT1H
BEGIN:VTIMEZONE
TZID:America/New_York
BEGIN:DAYLIGHT
TZOFFSETFROM:-0500
TZOFFSETTO:-0400
TZNAME:EDT
DTSTART:20250309T070000
END:DAYLIGHT
BEGIN:STANDARD
TZOFFSETFROM:-0400
TZOFFSETTO:-0500
TZNAME:EST
DTSTART:20251102T060000
END:STANDARD
BEGIN:DAYLIGHT
TZOFFSETFROM:-0500
TZOFFSETTO:-0400
TZNAME:EDT
DTSTART:20260308T070000
END:DAYLIGHT
BEGIN:STANDARD
TZOFFSETFROM:-0400
TZOFFSETTO:-0500
TZNAME:EST
DTSTART:20261101T060000
END:STANDARD
BEGIN:DAYLIGHT
TZOFFSETFROM:-0500
TZOFFSETTO:-0400
TZNAME:EDT
DTSTART:20270314T070000
END:DAYLIGHT
BEGIN:STANDARD
TZOFFSETFROM:-0400
TZOFFSETTO:-0500
TZNAME:EST
DTSTART:20271107T060000
END:STANDARD
END:VTIMEZONE
BEGIN:VEVENT
DTSTART;TZID=America/New_York:20260901T090000
DTEND;TZID=America/New_York:20260901T094500
DTSTAMP:20260420T202246
CREATED:20260205T163310Z
LAST-MODIFIED:20260205T163310Z
UID:10002691-1788253200-1788255900@alexandriaky.gov
SUMMARY:Morning Chair Volleyball
DESCRIPTION:
URL:https://alexandriaky.gov/event/morning-chair-volleyball/2026-09-01/
LOCATION:Calvin A. Perry Community Center\, 8236 W. Main Street\, Alexandria\, KY\, 41001\, United States
CATEGORIES:Community Center
ATTACH;FMTTYPE=image/jpeg:https://alexandriaky.gov/wp-content/uploads/2026/02/1_30_25_Ch-Volley-Flyer.resize.jpg
END:VEVENT
BEGIN:VEVENT
DTSTART;TZID=America/New_York:20260901T100000
DTEND;TZID=America/New_York:20260901T120000
DTSTAMP:20260420T202246
CREATED:20260205T163713Z
LAST-MODIFIED:20260205T163713Z
UID:10002787-1788256800-1788264000@alexandriaky.gov
SUMMARY:Morning Pickleball
DESCRIPTION:
URL:https://alexandriaky.gov/event/morning-pickleball/2026-09-01/
LOCATION:Calvin A. Perry Community Center\, 8236 W. Main Street\, Alexandria\, KY\, 41001\, United States
CATEGORIES:Community Center
ATTACH;FMTTYPE=image/jpeg:https://alexandriaky.gov/wp-content/uploads/2026/02/picklleball-flyer-1_30_25.resize.jpg
END:VEVENT
BEGIN:VEVENT
DTSTART;TZID=America/New_York:20260901T190000
DTEND;TZID=America/New_York:20260901T200000
DTSTAMP:20260420T202246
CREATED:20251209T184941Z
LAST-MODIFIED:20251209T184941Z
UID:10001296-1788289200-1788292800@alexandriaky.gov
SUMMARY:Planning & Zoning Commission
DESCRIPTION:
URL:https://alexandriaky.gov/event/planning-zoning-commission-53/2026-09-01/
LOCATION:Alexandria City Building\, 8236 West Main Street\, Alexandria\, KY\, 41001
END:VEVENT
BEGIN:VEVENT
DTSTART;TZID=America/New_York:20260902T091500
DTEND;TZID=America/New_York:20260902T094500
DTSTAMP:20260420T202246
CREATED:20260205T160036Z
LAST-MODIFIED:20260205T161054Z
UID:10002073-1788340500-1788342300@alexandriaky.gov
SUMMARY:Chair Yoga
DESCRIPTION:
URL:https://alexandriaky.gov/event/chair-yoga-3/2026-09-02/
LOCATION:Calvin A. Perry Community Center\, 8236 W. Main Street\, Alexandria\, KY\, 41001\, United States
CATEGORIES:Community Center
ATTACH;FMTTYPE=image/jpeg:https://alexandriaky.gov/wp-content/uploads/2024/12/chair-yoga-flyer.resize.jpg
END:VEVENT
BEGIN:VEVENT
DTSTART;TZID=America/New_York:20260902T101500
DTEND;TZID=America/New_York:20260902T110000
DTSTAMP:20260420T202246
CREATED:20260205T162139Z
LAST-MODIFIED:20260205T164726Z
UID:10002349-1788344100-1788346800@alexandriaky.gov
SUMMARY:Fit-4-Life
DESCRIPTION:
URL:https://alexandriaky.gov/event/fit-4-life-2/2026-09-02/
LOCATION:Calvin A. Perry Community Center\, 8236 W. Main Street\, Alexandria\, KY\, 41001\, United States
CATEGORIES:Community Center
ATTACH;FMTTYPE=image/jpeg:https://alexandriaky.gov/wp-content/uploads/2026/02/2025-Fit-for-life-flyer.resize.jpg
END:VEVENT
BEGIN:VEVENT
DTSTART;TZID=America/New_York:20260902T120000
DTEND;TZID=America/New_York:20260902T144500
DTSTAMP:20260420T202246
CREATED:20260205T162727Z
LAST-MODIFIED:20260205T162727Z
UID:10002547-1788350400-1788360300@alexandriaky.gov
SUMMARY:Afternoon Chair Volleyball
DESCRIPTION:
URL:https://alexandriaky.gov/event/afternoon-chair-volleyball-2/2026-09-02/
LOCATION:Calvin A. Perry Community Center\, 8236 W. Main Street\, Alexandria\, KY\, 41001\, United States
CATEGORIES:Community Center
ATTACH;FMTTYPE=image/jpeg:https://alexandriaky.gov/wp-content/uploads/2026/02/1_30_25_Ch-Volley-Flyer.resize.jpg
END:VEVENT
BEGIN:VEVENT
DTSTART;TZID=America/New_York:20260902T120000
DTEND;TZID=America/New_York:20260902T144500
DTSTAMP:20260420T202246
CREATED:20260205T163149Z
LAST-MODIFIED:20260205T164833Z
UID:10002930-1788350400-1788360300@alexandriaky.gov
SUMMARY:Afternoon Pickleball
DESCRIPTION:
URL:https://alexandriaky.gov/event/afternoon-pickleball-2/2026-09-02/
LOCATION:Calvin A. Perry Community Center\, 8236 W. Main Street\, Alexandria\, KY\, 41001\, United States
CATEGORIES:Community Center
ATTACH;FMTTYPE=image/jpeg:https://alexandriaky.gov/wp-content/uploads/2026/02/picklleball-flyer-1_30_25.resize.jpg
END:VEVENT
BEGIN:VEVENT
DTSTART;TZID=America/New_York:20260902T190000
DTEND;TZID=America/New_York:20260902T200000
DTSTAMP:20260420T202246
CREATED:20251209T185721Z
LAST-MODIFIED:20251209T185721Z
UID:10001320-1788375600-1788379200@alexandriaky.gov
SUMMARY:Park & Recreation Meeting
DESCRIPTION:
URL:https://alexandriaky.gov/event/park-recreation-meeting-12/2026-09-02/
LOCATION:Alexandria Community Park 3965 Alexandria Dr.\, Alexandria KY\, 3965 Alexandria Drive\, Alexandria\, KY\, 41001\, United States
END:VEVENT
BEGIN:VEVENT
DTSTART;TZID=America/New_York:20260903T090000
DTEND;TZID=America/New_York:20260903T103000
DTSTAMP:20260420T202246
CREATED:20260205T163452Z
LAST-MODIFIED:20260205T163452Z
UID:10002739-1788426000-1788431400@alexandriaky.gov
SUMMARY:Morning Chair Volleyball
DESCRIPTION:
URL:https://alexandriaky.gov/event/morning-chair-volleyball-2/2026-09-03/
LOCATION:Calvin A. Perry Community Center\, 8236 W. Main Street\, Alexandria\, KY\, 41001\, United States
CATEGORIES:Community Center
ATTACH;FMTTYPE=image/jpeg:https://alexandriaky.gov/wp-content/uploads/2026/02/1_30_25_Ch-Volley-Flyer.resize.jpg
END:VEVENT
BEGIN:VEVENT
DTSTART;TZID=America/New_York:20260903T100000
DTEND;TZID=America/New_York:20260903T120000
DTSTAMP:20260420T202246
CREATED:20260205T163826Z
LAST-MODIFIED:20260205T163826Z
UID:10002835-1788429600-1788436800@alexandriaky.gov
SUMMARY:Morning Pickleball
DESCRIPTION:
URL:https://alexandriaky.gov/event/morning-pickleball-2/2026-09-03/
LOCATION:Calvin A. Perry Community Center\, 8236 W. Main Street\, Alexandria\, KY\, 41001\, United States
CATEGORIES:Community Center
ATTACH;FMTTYPE=image/jpeg:https://alexandriaky.gov/wp-content/uploads/2026/02/picklleball-flyer-1_30_25.resize.jpg
END:VEVENT
BEGIN:VEVENT
DTSTART;TZID=America/New_York:20260903T180000
DTEND;TZID=America/New_York:20260903T190000
DTSTAMP:20260420T202246
CREATED:20251209T195201Z
LAST-MODIFIED:20251209T195201Z
UID:10001386-1788458400-1788462000@alexandriaky.gov
SUMMARY:Business Retention & Development Committee
DESCRIPTION:
URL:https://alexandriaky.gov/event/business-retention-development-committee-13/
LOCATION:Alexandria City Building\, 8236 West Main Street\, Alexandria\, KY\, 41001
CATEGORIES:Main
END:VEVENT
BEGIN:VEVENT
DTSTART;TZID=America/New_York:20260903T190000
DTEND;TZID=America/New_York:20260903T200000
DTSTAMP:20260420T202246
CREATED:20251209T190116Z
LAST-MODIFIED:20260130T192658Z
UID:10001343-1788462000-1788465600@alexandriaky.gov
SUMMARY:City Council Meeting
DESCRIPTION:
URL:https://alexandriaky.gov/event/city-council-meeting-81/2026-09-03/
LOCATION:Alexandria City Building\, 8236 West Main Street\, Alexandria\, KY\, 41001
CATEGORIES:Public Meeting
END:VEVENT
BEGIN:VEVENT
DTSTART;TZID=America/New_York:20260904T091500
DTEND;TZID=America/New_York:20260904T100000
DTSTAMP:20260420T202246
CREATED:20260205T164051Z
LAST-MODIFIED:20260205T164051Z
UID:10002883-1788513300-1788516000@alexandriaky.gov
SUMMARY:Drum Fun
DESCRIPTION:
URL:https://alexandriaky.gov/event/drum-fun/2026-09-04/
LOCATION:Calvin A. Perry Community Center\, 8236 W. Main Street\, Alexandria\, KY\, 41001\, United States
CATEGORIES:Community Center
ATTACH;FMTTYPE=image/jpeg:https://alexandriaky.gov/wp-content/uploads/2026/02/DrumFun-Flyer-1_30_25.resize.jpg
END:VEVENT
BEGIN:VEVENT
DTSTART;VALUE=DATE:20260907
DTEND;VALUE=DATE:20260908
DTSTAMP:20260420T202246
CREATED:20251209T201955Z
LAST-MODIFIED:20251209T201955Z
UID:10001410-1788739200-1788825599@alexandriaky.gov
SUMMARY:Labor Day - CITY OFFICES CLOSED
DESCRIPTION:
URL:https://alexandriaky.gov/event/labor-day-city-offices-closed/
LOCATION:Alexandria City Building\, 8236 West Main Street\, Alexandria\, KY\, 41001
CATEGORIES:Main
END:VEVENT
BEGIN:VEVENT
DTSTART;TZID=America/New_York:20260907T091500
DTEND;TZID=America/New_York:20260907T094500
DTSTAMP:20260420T202246
CREATED:20260205T155051Z
LAST-MODIFIED:20260205T160331Z
UID:10002027-1788772500-1788774300@alexandriaky.gov
SUMMARY:Chair Yoga
DESCRIPTION:
URL:https://alexandriaky.gov/event/chair-yoga/2026-09-07/
LOCATION:Calvin A. Perry Community Center\, 8236 W. Main Street\, Alexandria\, KY\, 41001\, United States
CATEGORIES:Community Center
ATTACH;FMTTYPE=image/jpeg:https://alexandriaky.gov/wp-content/uploads/2024/12/chair-yoga-flyer.resize.jpg
END:VEVENT
BEGIN:VEVENT
DTSTART;TZID=America/New_York:20260907T101500
DTEND;TZID=America/New_York:20260907T110000
DTSTAMP:20260420T202246
CREATED:20260205T161632Z
LAST-MODIFIED:20260205T161632Z
UID:10002122-1788776100-1788778800@alexandriaky.gov
SUMMARY:Fit-4-Life
DESCRIPTION:
URL:https://alexandriaky.gov/event/fit-4-life/2026-09-07/
LOCATION:Calvin A. Perry Community Center\, 8236 W. Main Street\, Alexandria\, KY\, 41001\, United States
CATEGORIES:Community Center
ATTACH;FMTTYPE=image/jpeg:https://alexandriaky.gov/wp-content/uploads/2026/02/2025-Fit-for-life-flyer.resize.jpg
END:VEVENT
BEGIN:VEVENT
DTSTART;TZID=America/New_York:20260907T120000
DTEND;TZID=America/New_York:20260907T144500
DTSTAMP:20260420T202246
CREATED:20260205T162616Z
LAST-MODIFIED:20260205T162616Z
UID:10002500-1788782400-1788792300@alexandriaky.gov
SUMMARY:Afternoon Chair Volleyball
DESCRIPTION:
URL:https://alexandriaky.gov/event/afternoon-chair-volleyball/2026-09-07/
LOCATION:Calvin A. Perry Community Center\, 8236 W. Main Street\, Alexandria\, KY\, 41001\, United States
CATEGORIES:Community Center
ATTACH;FMTTYPE=image/jpeg:https://alexandriaky.gov/wp-content/uploads/2026/02/1_30_25_Ch-Volley-Flyer.resize.jpg
END:VEVENT
BEGIN:VEVENT
DTSTART;TZID=America/New_York:20260907T120000
DTEND;TZID=America/New_York:20260907T144500
DTSTAMP:20260420T202246
CREATED:20260205T162925Z
LAST-MODIFIED:20260205T162925Z
UID:10002596-1788782400-1788792300@alexandriaky.gov
SUMMARY:Afternoon Pickleball
DESCRIPTION:
URL:https://alexandriaky.gov/event/afternoon-pickleball/2026-09-07/
LOCATION:Calvin A. Perry Community Center\, 8236 W. Main Street\, Alexandria\, KY\, 41001\, United States
CATEGORIES:Community Center
ATTACH;FMTTYPE=image/jpeg:https://alexandriaky.gov/wp-content/uploads/2026/02/picklleball-flyer-1_30_25.resize.jpg
END:VEVENT
BEGIN:VEVENT
DTSTART;TZID=America/New_York:20260908T090000
DTEND;TZID=America/New_York:20260908T094500
DTSTAMP:20260420T202246
CREATED:20260205T163310Z
LAST-MODIFIED:20260205T163310Z
UID:10002692-1788858000-1788860700@alexandriaky.gov
SUMMARY:Morning Chair Volleyball
DESCRIPTION:
URL:https://alexandriaky.gov/event/morning-chair-volleyball/2026-09-08/
LOCATION:Calvin A. Perry Community Center\, 8236 W. Main Street\, Alexandria\, KY\, 41001\, United States
CATEGORIES:Community Center
ATTACH;FMTTYPE=image/jpeg:https://alexandriaky.gov/wp-content/uploads/2026/02/1_30_25_Ch-Volley-Flyer.resize.jpg
END:VEVENT
BEGIN:VEVENT
DTSTART;TZID=America/New_York:20260908T100000
DTEND;TZID=America/New_York:20260908T120000
DTSTAMP:20260420T202246
CREATED:20260205T163713Z
LAST-MODIFIED:20260205T163713Z
UID:10002788-1788861600-1788868800@alexandriaky.gov
SUMMARY:Morning Pickleball
DESCRIPTION:
URL:https://alexandriaky.gov/event/morning-pickleball/2026-09-08/
LOCATION:Calvin A. Perry Community Center\, 8236 W. Main Street\, Alexandria\, KY\, 41001\, United States
CATEGORIES:Community Center
ATTACH;FMTTYPE=image/jpeg:https://alexandriaky.gov/wp-content/uploads/2026/02/picklleball-flyer-1_30_25.resize.jpg
END:VEVENT
BEGIN:VEVENT
DTSTART;TZID=America/New_York:20260909T091500
DTEND;TZID=America/New_York:20260909T094500
DTSTAMP:20260420T202246
CREATED:20260205T160036Z
LAST-MODIFIED:20260205T161054Z
UID:10002074-1788945300-1788947100@alexandriaky.gov
SUMMARY:Chair Yoga
DESCRIPTION:
URL:https://alexandriaky.gov/event/chair-yoga-3/2026-09-09/
LOCATION:Calvin A. Perry Community Center\, 8236 W. Main Street\, Alexandria\, KY\, 41001\, United States
CATEGORIES:Community Center
ATTACH;FMTTYPE=image/jpeg:https://alexandriaky.gov/wp-content/uploads/2024/12/chair-yoga-flyer.resize.jpg
END:VEVENT
BEGIN:VEVENT
DTSTART;TZID=America/New_York:20260909T101500
DTEND;TZID=America/New_York:20260909T110000
DTSTAMP:20260420T202246
CREATED:20260205T162139Z
LAST-MODIFIED:20260205T164726Z
UID:10002356-1788948900-1788951600@alexandriaky.gov
SUMMARY:Fit-4-Life
DESCRIPTION:
URL:https://alexandriaky.gov/event/fit-4-life-2/2026-09-09/
LOCATION:Calvin A. Perry Community Center\, 8236 W. Main Street\, Alexandria\, KY\, 41001\, United States
CATEGORIES:Community Center
ATTACH;FMTTYPE=image/jpeg:https://alexandriaky.gov/wp-content/uploads/2026/02/2025-Fit-for-life-flyer.resize.jpg
END:VEVENT
BEGIN:VEVENT
DTSTART;TZID=America/New_York:20260909T120000
DTEND;TZID=America/New_York:20260909T144500
DTSTAMP:20260420T202246
CREATED:20260205T162727Z
LAST-MODIFIED:20260205T162727Z
UID:10002548-1788955200-1788965100@alexandriaky.gov
SUMMARY:Afternoon Chair Volleyball
DESCRIPTION:
URL:https://alexandriaky.gov/event/afternoon-chair-volleyball-2/2026-09-09/
LOCATION:Calvin A. Perry Community Center\, 8236 W. Main Street\, Alexandria\, KY\, 41001\, United States
CATEGORIES:Community Center
ATTACH;FMTTYPE=image/jpeg:https://alexandriaky.gov/wp-content/uploads/2026/02/1_30_25_Ch-Volley-Flyer.resize.jpg
END:VEVENT
BEGIN:VEVENT
DTSTART;TZID=America/New_York:20260909T120000
DTEND;TZID=America/New_York:20260909T144500
DTSTAMP:20260420T202246
CREATED:20260205T163149Z
LAST-MODIFIED:20260205T164833Z
UID:10002931-1788955200-1788965100@alexandriaky.gov
SUMMARY:Afternoon Pickleball
DESCRIPTION:
URL:https://alexandriaky.gov/event/afternoon-pickleball-2/2026-09-09/
LOCATION:Calvin A. Perry Community Center\, 8236 W. Main Street\, Alexandria\, KY\, 41001\, United States
CATEGORIES:Community Center
ATTACH;FMTTYPE=image/jpeg:https://alexandriaky.gov/wp-content/uploads/2026/02/picklleball-flyer-1_30_25.resize.jpg
END:VEVENT
BEGIN:VEVENT
DTSTART;TZID=America/New_York:20260909T190000
DTEND;TZID=America/New_York:20260909T200000
DTSTAMP:20260420T202246
CREATED:20251209T190012Z
LAST-MODIFIED:20251209T190012Z
UID:10001331-1788980400-1788984000@alexandriaky.gov
SUMMARY:Board of Adjustment
DESCRIPTION:
URL:https://alexandriaky.gov/event/board-of-adjustment/2026-09-09/
LOCATION:Alexandria City Building\, 8236 West Main Street\, Alexandria\, KY\, 41001
END:VEVENT
BEGIN:VEVENT
DTSTART;TZID=America/New_York:20260910T090000
DTEND;TZID=America/New_York:20260910T103000
DTSTAMP:20260420T202246
CREATED:20260205T163452Z
LAST-MODIFIED:20260205T163452Z
UID:10002740-1789030800-1789036200@alexandriaky.gov
SUMMARY:Morning Chair Volleyball
DESCRIPTION:
URL:https://alexandriaky.gov/event/morning-chair-volleyball-2/2026-09-10/
LOCATION:Calvin A. Perry Community Center\, 8236 W. Main Street\, Alexandria\, KY\, 41001\, United States
CATEGORIES:Community Center
ATTACH;FMTTYPE=image/jpeg:https://alexandriaky.gov/wp-content/uploads/2026/02/1_30_25_Ch-Volley-Flyer.resize.jpg
END:VEVENT
BEGIN:VEVENT
DTSTART;TZID=America/New_York:20260910T100000
DTEND;TZID=America/New_York:20260910T120000
DTSTAMP:20260420T202246
CREATED:20260205T163826Z
LAST-MODIFIED:20260205T163826Z
UID:10002836-1789034400-1789041600@alexandriaky.gov
SUMMARY:Morning Pickleball
DESCRIPTION:
URL:https://alexandriaky.gov/event/morning-pickleball-2/2026-09-10/
LOCATION:Calvin A. Perry Community Center\, 8236 W. Main Street\, Alexandria\, KY\, 41001\, United States
CATEGORIES:Community Center
ATTACH;FMTTYPE=image/jpeg:https://alexandriaky.gov/wp-content/uploads/2026/02/picklleball-flyer-1_30_25.resize.jpg
END:VEVENT
BEGIN:VEVENT
DTSTART;TZID=America/New_York:20260910T190000
DTEND;TZID=America/New_York:20260910T200000
DTSTAMP:20260420T202246
CREATED:20251209T191545Z
LAST-MODIFIED:20251209T191545Z
UID:10001364-1789066800-1789070400@alexandriaky.gov
SUMMARY:Code Enforcement Board
DESCRIPTION:
URL:https://alexandriaky.gov/event/code-enforcement-board-12/2026-09-10/
LOCATION:Alexandria City Building\, 8236 West Main Street\, Alexandria\, KY\, 41001
CATEGORIES:Main
END:VEVENT
BEGIN:VEVENT
DTSTART;TZID=America/New_York:20260911T091500
DTEND;TZID=America/New_York:20260911T100000
DTSTAMP:20260420T202246
CREATED:20260205T164051Z
LAST-MODIFIED:20260205T164051Z
UID:10002884-1789118100-1789120800@alexandriaky.gov
SUMMARY:Drum Fun
DESCRIPTION:
URL:https://alexandriaky.gov/event/drum-fun/2026-09-11/
LOCATION:Calvin A. Perry Community Center\, 8236 W. Main Street\, Alexandria\, KY\, 41001\, United States
CATEGORIES:Community Center
ATTACH;FMTTYPE=image/jpeg:https://alexandriaky.gov/wp-content/uploads/2026/02/DrumFun-Flyer-1_30_25.resize.jpg
END:VEVENT
BEGIN:VEVENT
DTSTART;TZID=America/New_York:20260914T091500
DTEND;TZID=America/New_York:20260914T094500
DTSTAMP:20260420T202246
CREATED:20260205T155051Z
LAST-MODIFIED:20260205T160331Z
UID:10002028-1789377300-1789379100@alexandriaky.gov
SUMMARY:Chair Yoga
DESCRIPTION:
URL:https://alexandriaky.gov/event/chair-yoga/2026-09-14/
LOCATION:Calvin A. Perry Community Center\, 8236 W. Main Street\, Alexandria\, KY\, 41001\, United States
CATEGORIES:Community Center
ATTACH;FMTTYPE=image/jpeg:https://alexandriaky.gov/wp-content/uploads/2024/12/chair-yoga-flyer.resize.jpg
END:VEVENT
END:VCALENDAR