BEGIN:VCALENDAR
VERSION:2.0
PRODID:-//City of Alexandria Kentucky - ECPv6.15.20//NONSGML v1.0//EN
CALSCALE:GREGORIAN
METHOD:PUBLISH
X-WR-CALNAME:City of Alexandria Kentucky
X-ORIGINAL-URL:https://alexandriaky.gov
X-WR-CALDESC:Events for City of Alexandria Kentucky
REFRESH-INTERVAL;VALUE=DURATION:PT1H
X-Robots-Tag:noindex
X-PUBLISHED-TTL:PT1H
BEGIN:VTIMEZONE
TZID:America/New_York
BEGIN:DAYLIGHT
TZOFFSETFROM:-0500
TZOFFSETTO:-0400
TZNAME:EDT
DTSTART:20240310T070000
END:DAYLIGHT
BEGIN:STANDARD
TZOFFSETFROM:-0400
TZOFFSETTO:-0500
TZNAME:EST
DTSTART:20241103T060000
END:STANDARD
BEGIN:DAYLIGHT
TZOFFSETFROM:-0500
TZOFFSETTO:-0400
TZNAME:EDT
DTSTART:20250309T070000
END:DAYLIGHT
BEGIN:STANDARD
TZOFFSETFROM:-0400
TZOFFSETTO:-0500
TZNAME:EST
DTSTART:20251102T060000
END:STANDARD
BEGIN:DAYLIGHT
TZOFFSETFROM:-0500
TZOFFSETTO:-0400
TZNAME:EDT
DTSTART:20260308T070000
END:DAYLIGHT
BEGIN:STANDARD
TZOFFSETFROM:-0400
TZOFFSETTO:-0500
TZNAME:EST
DTSTART:20261101T060000
END:STANDARD
END:VTIMEZONE
BEGIN:VEVENT
DTSTART;TZID=America/New_York:20250703T190000
DTEND;TZID=America/New_York:20250703T200000
DTSTAMP:20260423T193031
CREATED:20241212T194848Z
LAST-MODIFIED:20250630T150631Z
UID:10001136-1751569200-1751572800@alexandriaky.gov
SUMMARY:City Council - CANCELLED
DESCRIPTION:MEETING CANCELLED
URL:https://alexandriaky.gov/event/city-council-41/
LOCATION:Alexandria City Building\, 8236 West Main Street\, Alexandria\, KY\, 41001
END:VEVENT
BEGIN:VEVENT
DTSTART;TZID=America/New_York:20250703T180000
DTEND;TZID=America/New_York:20250703T190000
DTSTAMP:20260423T193031
CREATED:20250218T130023Z
LAST-MODIFIED:20250630T150503Z
UID:10001232-1751565600-1751569200@alexandriaky.gov
SUMMARY:Business Retention & Development Committee Meeting - CANCELLED
DESCRIPTION:MEETING CANCELLED
URL:https://alexandriaky.gov/event/business-retention-development-committee-meeting-3/
LOCATION:Alexandria City Building\, 8236 West Main Street\, Alexandria\, KY\, 41001
END:VEVENT
BEGIN:VEVENT
DTSTART;TZID=America/New_York:20250703T120000
DTEND;TZID=America/New_York:20250703T130000
DTSTAMP:20260423T193031
CREATED:20250630T150549Z
LAST-MODIFIED:20250630T150549Z
UID:10001271-1751544000-1751547600@alexandriaky.gov
SUMMARY:Business Retention & Development Committee Special Meeting
DESCRIPTION:Agenda
URL:https://alexandriaky.gov/event/business-retention-development-committee-special-meeting-2/
LOCATION:Alexandria City Building\, 8236 West Main Street\, Alexandria\, KY\, 41001
END:VEVENT
BEGIN:VEVENT
DTSTART;TZID=America/New_York:20250702T190000
DTEND;TZID=America/New_York:20250702T200000
DTSTAMP:20260423T193031
CREATED:20241212T202935Z
LAST-MODIFIED:20250626T161246Z
UID:10001179-1751482800-1751486400@alexandriaky.gov
SUMMARY:Park & Recreation Board
DESCRIPTION:Agenda
URL:https://alexandriaky.gov/event/park-recreation-board-25/
LOCATION:Alexandria Community Park 3965 Alexandria Dr.\, Alexandria KY\, 3965 Alexandria Drive\, Alexandria\, KY\, 41001\, United States
END:VEVENT
BEGIN:VEVENT
DTSTART;TZID=America/New_York:20250701T190000
DTEND;TZID=America/New_York:20250701T200000
DTSTAMP:20260423T193031
CREATED:20241212T200501Z
LAST-MODIFIED:20250626T161149Z
UID:10001160-1751396400-1751400000@alexandriaky.gov
SUMMARY:Planning & Zoning Commission
DESCRIPTION:Agenda
URL:https://alexandriaky.gov/event/planning-zoning-commission-41/
LOCATION:Alexandria City Building\, 8236 West Main Street\, Alexandria\, KY\, 41001
END:VEVENT
BEGIN:VEVENT
DTSTART;TZID=America/New_York:20250619T190000
DTEND;TZID=America/New_York:20250619T200000
DTSTAMP:20260423T193031
CREATED:20241212T193836Z
LAST-MODIFIED:20250617T194202Z
UID:10001135-1750359600-1750363200@alexandriaky.gov
SUMMARY:City Council
DESCRIPTION:Agenda
URL:https://alexandriaky.gov/event/city-council-40/
LOCATION:Alexandria City Building\, 8236 West Main Street\, Alexandria\, KY\, 41001
END:VEVENT
BEGIN:VEVENT
DTSTART;TZID=America/New_York:20250619T180000
DTEND;TZID=America/New_York:20250619T183000
DTSTAMP:20260423T193031
CREATED:20250218T130305Z
LAST-MODIFIED:20250617T134054Z
UID:10001237-1750356000-1750357800@alexandriaky.gov
SUMMARY:Public Works Committee Meeting
DESCRIPTION:Agenda
URL:https://alexandriaky.gov/event/public-works-committee-meeting-25/
LOCATION:Alexandria City Building\, 8236 West Main Street\, Alexandria\, KY\, 41001
END:VEVENT
BEGIN:VEVENT
DTSTART;TZID=America/New_York:20250619T104500
DTEND;TZID=America/New_York:20250619T114500
DTSTAMP:20260423T193031
CREATED:20250530T121314Z
LAST-MODIFIED:20250530T121314Z
UID:10001267-1750329900-1750333500@alexandriaky.gov
SUMMARY:Kids Art in the Park
DESCRIPTION:
URL:https://alexandriaky.gov/event/kids-art-in-the-park-2/
LOCATION:Alexandria Community Park 3965 Alexandria Dr.\, Alexandria KY\, 3965 Alexandria Drive\, Alexandria\, KY\, 41001\, United States
END:VEVENT
BEGIN:VEVENT
DTSTART;TZID=America/New_York:20250617T190000
DTEND;TZID=America/New_York:20250617T200000
DTSTAMP:20260423T193031
CREATED:20250530T121127Z
LAST-MODIFIED:20250530T121127Z
UID:10001266-1750186800-1750190400@alexandriaky.gov
SUMMARY:Adult Yoga in the Park - FREE
DESCRIPTION:
URL:https://alexandriaky.gov/event/adult-yoga-in-the-park-free/
LOCATION:Alexandria Community Park 3965 Alexandria Dr.\, Alexandria KY\, 3965 Alexandria Drive\, Alexandria\, KY\, 41001\, United States
END:VEVENT
BEGIN:VEVENT
DTSTART;TZID=America/New_York:20250617T190000
DTEND;TZID=America/New_York:20250617T200000
DTSTAMP:20260423T193031
CREATED:20241212T200432Z
LAST-MODIFIED:20250616T144716Z
UID:10001159-1750186800-1750190400@alexandriaky.gov
SUMMARY:Planning & Zoning Commission
DESCRIPTION:Agenda
URL:https://alexandriaky.gov/event/planning-zoning-commission-40/
LOCATION:Alexandria City Building\, 8236 West Main Street\, Alexandria\, KY\, 41001
END:VEVENT
BEGIN:VEVENT
DTSTART;TZID=America/New_York:20250612T190000
DTEND;TZID=America/New_York:20250612T200000
DTSTAMP:20260423T193031
CREATED:20241212T205953Z
LAST-MODIFIED:20250606T130919Z
UID:10001201-1749754800-1749758400@alexandriaky.gov
SUMMARY:Code Enforcement Board
DESCRIPTION:Agenda
URL:https://alexandriaky.gov/event/code-enforcement-board-9/
LOCATION:Alexandria City Building\, 8236 West Main Street\, Alexandria\, KY\, 41001
END:VEVENT
BEGIN:VEVENT
DTSTART;TZID=America/New_York:20250611T190000
DTEND;TZID=America/New_York:20250611T200000
DTSTAMP:20260423T193031
CREATED:20241212T204709Z
LAST-MODIFIED:20250606T130511Z
UID:10001189-1749668400-1749672000@alexandriaky.gov
SUMMARY:Board of Adjustment
DESCRIPTION:Agenda
URL:https://alexandriaky.gov/event/board-of-adjustments-19/
LOCATION:Alexandria City Building\, 8236 West Main Street\, Alexandria\, KY\, 41001
END:VEVENT
BEGIN:VEVENT
DTSTART;TZID=America/New_York:20250610T104500
DTEND;TZID=America/New_York:20250610T114500
DTSTAMP:20260423T193031
CREATED:20250530T121042Z
LAST-MODIFIED:20250530T121342Z
UID:10001265-1749552300-1749555900@alexandriaky.gov
SUMMARY:Kids Park Workout Yoga - FREE
DESCRIPTION:
URL:https://alexandriaky.gov/event/kids-park-workout-yoga-free/
LOCATION:Alexandria Community Park 3965 Alexandria Dr.\, Alexandria KY\, 3965 Alexandria Drive\, Alexandria\, KY\, 41001\, United States
END:VEVENT
BEGIN:VEVENT
DTSTART;TZID=America/New_York:20250607T100000
DTEND;TZID=America/New_York:20250607T120000
DTSTAMP:20260423T193031
CREATED:20250530T120859Z
LAST-MODIFIED:20250530T120859Z
UID:10001264-1749290400-1749297600@alexandriaky.gov
SUMMARY:Fishing Derby
DESCRIPTION:
URL:https://alexandriaky.gov/event/fishing-derby-3/
LOCATION:Alexandria Community Park 3965 Alexandria Dr.\, Alexandria KY\, 3965 Alexandria Drive\, Alexandria\, KY\, 41001\, United States
END:VEVENT
BEGIN:VEVENT
DTSTART;TZID=America/New_York:20250607T080000
DTEND;TZID=America/New_York:20250608T200000
DTSTAMP:20260423T193031
CREATED:20250310T183700Z
LAST-MODIFIED:20250310T183700Z
UID:10001259-1749283200-1749412800@alexandriaky.gov
SUMMARY:Free Fishing Weekend
DESCRIPTION:No Fishing License is required to fish
URL:https://alexandriaky.gov/event/free-fishing-weekend-2/
LOCATION:Alexandria Community Park 3965 Alexandria Dr.\, Alexandria KY\, 3965 Alexandria Drive\, Alexandria\, KY\, 41001\, United States
END:VEVENT
BEGIN:VEVENT
DTSTART;TZID=America/New_York:20250605T190000
DTEND;TZID=America/New_York:20250605T200000
DTSTAMP:20260423T193031
CREATED:20241212T193801Z
LAST-MODIFIED:20250602T164100Z
UID:10001134-1749150000-1749153600@alexandriaky.gov
SUMMARY:City Council
DESCRIPTION:Agenda
URL:https://alexandriaky.gov/event/city-council-39/
LOCATION:Alexandria City Building\, 8236 West Main Street\, Alexandria\, KY\, 41001
END:VEVENT
BEGIN:VEVENT
DTSTART;TZID=America/New_York:20250605T180000
DTEND;TZID=America/New_York:20250605T190000
DTSTAMP:20260423T193031
CREATED:20250218T125835Z
LAST-MODIFIED:20250602T121206Z
UID:10001229-1749146400-1749150000@alexandriaky.gov
SUMMARY:Finance Committee Meeting
DESCRIPTION:Agenda
URL:https://alexandriaky.gov/event/finance-committee-meeting-18/
LOCATION:KY
END:VEVENT
BEGIN:VEVENT
DTSTART;TZID=America/New_York:20250604T190000
DTEND;TZID=America/New_York:20250604T200000
DTSTAMP:20260423T193031
CREATED:20241212T202900Z
LAST-MODIFIED:20250602T164000Z
UID:10001178-1749063600-1749067200@alexandriaky.gov
SUMMARY:Park & Recreation Board - CANCELLED
DESCRIPTION:MEETING CANCELLED
URL:https://alexandriaky.gov/event/park-recreation-board-24/
LOCATION:Alexandria Community Park 3965 Alexandria Dr.\, Alexandria KY\, 3965 Alexandria Drive\, Alexandria\, KY\, 41001\, United States
END:VEVENT
BEGIN:VEVENT
DTSTART;TZID=America/New_York:20250603T190000
DTEND;TZID=America/New_York:20250603T200000
DTSTAMP:20260423T193031
CREATED:20241212T200407Z
LAST-MODIFIED:20250602T121236Z
UID:10001158-1748977200-1748980800@alexandriaky.gov
SUMMARY:Planning & Zoning Commission
DESCRIPTION:Agenda
URL:https://alexandriaky.gov/event/planning-zoning-commission-39/
LOCATION:Alexandria City Building\, 8236 West Main Street\, Alexandria\, KY\, 41001
END:VEVENT
BEGIN:VEVENT
DTSTART;TZID=America/New_York:20250522T150000
DTEND;TZID=America/New_York:20250522T160000
DTSTAMP:20260423T193031
CREATED:20250520T140036Z
LAST-MODIFIED:20250520T140036Z
UID:10001263-1747926000-1747929600@alexandriaky.gov
SUMMARY:Future Planning Committee Special Meeting
DESCRIPTION:Agenda
URL:https://alexandriaky.gov/event/future-planning-committee-special-meeting/
LOCATION:Alexandria City Building\, 8236 West Main Street\, Alexandria\, KY\, 41001
END:VEVENT
BEGIN:VEVENT
DTSTART;TZID=America/New_York:20250520T190000
DTEND;TZID=America/New_York:20250520T200000
DTSTAMP:20260423T193031
CREATED:20241212T200312Z
LAST-MODIFIED:20241212T200333Z
UID:10001157-1747767600-1747771200@alexandriaky.gov
SUMMARY:Planning & Zoning Commission
DESCRIPTION:
URL:https://alexandriaky.gov/event/planning-zoning-12/
LOCATION:Alexandria City Building\, 8236 West Main Street\, Alexandria\, KY\, 41001
END:VEVENT
BEGIN:VEVENT
DTSTART;TZID=America/New_York:20250517T100000
DTEND;TZID=America/New_York:20250517T120000
DTSTAMP:20260423T193031
CREATED:20250310T183324Z
LAST-MODIFIED:20250509T170950Z
UID:10001256-1747476000-1747483200@alexandriaky.gov
SUMMARY:Kids to Parks Day | Kids Camouflage Boot Camp
DESCRIPTION:
URL:https://alexandriaky.gov/event/kids-to-parks-day-kids-camouflage-boot-camp/
LOCATION:Alexandria Community Park 3965 Alexandria Dr.\, Alexandria KY\, 3965 Alexandria Drive\, Alexandria\, KY\, 41001\, United States
END:VEVENT
BEGIN:VEVENT
DTSTART;TZID=America/New_York:20250515T190000
DTEND;TZID=America/New_York:20250515T200000
DTSTAMP:20260423T193031
CREATED:20241212T193237Z
LAST-MODIFIED:20250512T190359Z
UID:10001133-1747335600-1747339200@alexandriaky.gov
SUMMARY:City Council
DESCRIPTION:Agenda
URL:https://alexandriaky.gov/event/city-council-38/
LOCATION:Alexandria City Building\, 8236 West Main Street\, Alexandria\, KY\, 41001
END:VEVENT
BEGIN:VEVENT
DTSTART;TZID=America/New_York:20250515T183000
DTEND;TZID=America/New_York:20250515T190000
DTSTAMP:20260423T193031
CREATED:20250218T130741Z
LAST-MODIFIED:20250512T190325Z
UID:10001246-1747333800-1747335600@alexandriaky.gov
SUMMARY:Safety Committee Meeting
DESCRIPTION:Agenda
URL:https://alexandriaky.gov/event/safety-committee-meeting-9/
LOCATION:Alexandria City Building\, 8236 West Main Street\, Alexandria\, KY\, 41001
END:VEVENT
BEGIN:VEVENT
DTSTART;TZID=America/New_York:20250515T180000
DTEND;TZID=America/New_York:20250515T183000
DTSTAMP:20260423T193031
CREATED:20250218T130244Z
LAST-MODIFIED:20250512T190026Z
UID:10001236-1747332000-1747333800@alexandriaky.gov
SUMMARY:Public Works Committee Meeting
DESCRIPTION:Agenda
URL:https://alexandriaky.gov/event/public-works-committee-meeting-24/
LOCATION:Alexandria City Building\, 8236 West Main Street\, Alexandria\, KY\, 41001
END:VEVENT
BEGIN:VEVENT
DTSTART;TZID=America/New_York:20250514T190000
DTEND;TZID=America/New_York:20250514T200000
DTSTAMP:20260423T193031
CREATED:20241212T203614Z
LAST-MODIFIED:20250509T181120Z
UID:10001186-1747249200-1747252800@alexandriaky.gov
SUMMARY:Board of Adjustments - CANCELLED
DESCRIPTION:MEETING CANCELLED
URL:https://alexandriaky.gov/event/park-recreation-board-31/
LOCATION:Alexandria City Building\, 8236 West Main Street\, Alexandria\, KY\, 41001
END:VEVENT
BEGIN:VEVENT
DTSTART;TZID=America/New_York:20250513T190000
DTEND;TZID=America/New_York:20250513T200000
DTSTAMP:20260423T193031
CREATED:20241212T205725Z
LAST-MODIFIED:20250509T171103Z
UID:10001197-1747162800-1747166400@alexandriaky.gov
SUMMARY:Board of Ethics
DESCRIPTION:Agenda
URL:https://alexandriaky.gov/event/board-of-ethics-6/
LOCATION:Alexandria City Building\, 8236 West Main Street\, Alexandria\, KY\, 41001
END:VEVENT
BEGIN:VEVENT
DTSTART;TZID=America/New_York:20250507T190000
DTEND;TZID=America/New_York:20250507T200000
DTSTAMP:20260423T193031
CREATED:20241212T202704Z
LAST-MODIFIED:20250502T183019Z
UID:10001177-1746644400-1746648000@alexandriaky.gov
SUMMARY:Park & Recreation Board
DESCRIPTION:Agenda
URL:https://alexandriaky.gov/event/park-recreation-board-23/
LOCATION:Alexandria City Building\, 8236 West Main Street\, Alexandria\, KY\, 41001
END:VEVENT
BEGIN:VEVENT
DTSTART;TZID=America/New_York:20250506T190000
DTEND;TZID=America/New_York:20250506T200000
DTSTAMP:20260423T193031
CREATED:20241212T200203Z
LAST-MODIFIED:20250502T182943Z
UID:10001156-1746558000-1746561600@alexandriaky.gov
SUMMARY:Planning & Zoning Commission
DESCRIPTION:Agenda
URL:https://alexandriaky.gov/event/planning-zoning-11/
LOCATION:Alexandria City Building\, 8236 West Main Street\, Alexandria\, KY\, 41001
END:VEVENT
BEGIN:VEVENT
DTSTART;TZID=America/New_York:20250503T120000
DTEND;TZID=America/New_York:20250503T190000
DTSTAMP:20260423T193031
CREATED:20250310T182933Z
LAST-MODIFIED:20250328T145117Z
UID:10001253-1746273600-1746298800@alexandriaky.gov
SUMMARY:Alexandria Business Showcase
DESCRIPTION:
URL:https://alexandriaky.gov/event/alexandria-business-showcase-2/
LOCATION:Washington St
END:VEVENT
END:VCALENDAR