BEGIN:VCALENDAR
VERSION:2.0
PRODID:-//City of Alexandria Kentucky - ECPv6.15.20//NONSGML v1.0//EN
CALSCALE:GREGORIAN
METHOD:PUBLISH
X-ORIGINAL-URL:https://alexandriaky.gov
X-WR-CALDESC:Events for City of Alexandria Kentucky
REFRESH-INTERVAL;VALUE=DURATION:PT1H
X-Robots-Tag:noindex
X-PUBLISHED-TTL:PT1H
BEGIN:VTIMEZONE
TZID:America/New_York
BEGIN:DAYLIGHT
TZOFFSETFROM:-0500
TZOFFSETTO:-0400
TZNAME:EDT
DTSTART:20250309T070000
END:DAYLIGHT
BEGIN:STANDARD
TZOFFSETFROM:-0400
TZOFFSETTO:-0500
TZNAME:EST
DTSTART:20251102T060000
END:STANDARD
BEGIN:DAYLIGHT
TZOFFSETFROM:-0500
TZOFFSETTO:-0400
TZNAME:EDT
DTSTART:20260308T070000
END:DAYLIGHT
BEGIN:STANDARD
TZOFFSETFROM:-0400
TZOFFSETTO:-0500
TZNAME:EST
DTSTART:20261101T060000
END:STANDARD
BEGIN:DAYLIGHT
TZOFFSETFROM:-0500
TZOFFSETTO:-0400
TZNAME:EDT
DTSTART:20270314T070000
END:DAYLIGHT
BEGIN:STANDARD
TZOFFSETFROM:-0400
TZOFFSETTO:-0500
TZNAME:EST
DTSTART:20271107T060000
END:STANDARD
END:VTIMEZONE
BEGIN:VEVENT
DTSTART;TZID=America/New_York:20260930T120000
DTEND;TZID=America/New_York:20260930T144500
DTSTAMP:20260421T164206
CREATED:20260205T162727Z
LAST-MODIFIED:20260205T162727Z
UID:10002551-1790769600-1790779500@alexandriaky.gov
SUMMARY:Afternoon Chair Volleyball
DESCRIPTION:
URL:https://alexandriaky.gov/event/afternoon-chair-volleyball-2/2026-09-30/
LOCATION:Calvin A. Perry Community Center\, 8236 W. Main Street\, Alexandria\, KY\, 41001\, United States
CATEGORIES:Community Center
ATTACH;FMTTYPE=image/jpeg:https://alexandriaky.gov/wp-content/uploads/2026/02/1_30_25_Ch-Volley-Flyer.resize.jpg
END:VEVENT
BEGIN:VEVENT
DTSTART;TZID=America/New_York:20260930T120000
DTEND;TZID=America/New_York:20260930T144500
DTSTAMP:20260421T164206
CREATED:20260205T163149Z
LAST-MODIFIED:20260205T164833Z
UID:10002934-1790769600-1790779500@alexandriaky.gov
SUMMARY:Afternoon Pickleball
DESCRIPTION:
URL:https://alexandriaky.gov/event/afternoon-pickleball-2/2026-09-30/
LOCATION:Calvin A. Perry Community Center\, 8236 W. Main Street\, Alexandria\, KY\, 41001\, United States
CATEGORIES:Community Center
ATTACH;FMTTYPE=image/jpeg:https://alexandriaky.gov/wp-content/uploads/2026/02/picklleball-flyer-1_30_25.resize.jpg
END:VEVENT
BEGIN:VEVENT
DTSTART;TZID=America/New_York:20261001T090000
DTEND;TZID=America/New_York:20261001T103000
DTSTAMP:20260421T164206
CREATED:20260205T163452Z
LAST-MODIFIED:20260205T163452Z
UID:10002743-1790845200-1790850600@alexandriaky.gov
SUMMARY:Morning Chair Volleyball
DESCRIPTION:
URL:https://alexandriaky.gov/event/morning-chair-volleyball-2/2026-10-01/
LOCATION:Calvin A. Perry Community Center\, 8236 W. Main Street\, Alexandria\, KY\, 41001\, United States
CATEGORIES:Community Center
ATTACH;FMTTYPE=image/jpeg:https://alexandriaky.gov/wp-content/uploads/2026/02/1_30_25_Ch-Volley-Flyer.resize.jpg
END:VEVENT
BEGIN:VEVENT
DTSTART;TZID=America/New_York:20261001T100000
DTEND;TZID=America/New_York:20261001T120000
DTSTAMP:20260421T164206
CREATED:20260205T163826Z
LAST-MODIFIED:20260205T163826Z
UID:10002839-1790848800-1790856000@alexandriaky.gov
SUMMARY:Morning Pickleball
DESCRIPTION:
URL:https://alexandriaky.gov/event/morning-pickleball-2/2026-10-01/
LOCATION:Calvin A. Perry Community Center\, 8236 W. Main Street\, Alexandria\, KY\, 41001\, United States
CATEGORIES:Community Center
ATTACH;FMTTYPE=image/jpeg:https://alexandriaky.gov/wp-content/uploads/2026/02/picklleball-flyer-1_30_25.resize.jpg
END:VEVENT
BEGIN:VEVENT
DTSTART;TZID=America/New_York:20261001T180000
DTEND;TZID=America/New_York:20261001T190000
DTSTAMP:20260421T164206
CREATED:20251209T194330Z
LAST-MODIFIED:20251209T194330Z
UID:10001376-1790877600-1790881200@alexandriaky.gov
SUMMARY:Future Planning Committee
DESCRIPTION:
URL:https://alexandriaky.gov/event/future-planning-committee-8/
LOCATION:Alexandria City Building\, 8236 West Main Street\, Alexandria\, KY\, 41001
CATEGORIES:Main
END:VEVENT
BEGIN:VEVENT
DTSTART;TZID=America/New_York:20261001T190000
DTEND;TZID=America/New_York:20261001T200000
DTSTAMP:20260421T164206
CREATED:20251209T190116Z
LAST-MODIFIED:20260130T192658Z
UID:10001344-1790881200-1790884800@alexandriaky.gov
SUMMARY:City Council Meeting
DESCRIPTION:
URL:https://alexandriaky.gov/event/city-council-meeting-81/2026-10-01/
LOCATION:Alexandria City Building\, 8236 West Main Street\, Alexandria\, KY\, 41001
CATEGORIES:Public Meeting
END:VEVENT
BEGIN:VEVENT
DTSTART;TZID=America/New_York:20261002T091500
DTEND;TZID=America/New_York:20261002T100000
DTSTAMP:20260421T164206
CREATED:20260205T164051Z
LAST-MODIFIED:20260205T164051Z
UID:10002887-1790932500-1790935200@alexandriaky.gov
SUMMARY:Drum Fun
DESCRIPTION:
URL:https://alexandriaky.gov/event/drum-fun/2026-10-02/
LOCATION:Calvin A. Perry Community Center\, 8236 W. Main Street\, Alexandria\, KY\, 41001\, United States
CATEGORIES:Community Center
ATTACH;FMTTYPE=image/jpeg:https://alexandriaky.gov/wp-content/uploads/2026/02/DrumFun-Flyer-1_30_25.resize.jpg
END:VEVENT
BEGIN:VEVENT
DTSTART;TZID=America/New_York:20261005T091500
DTEND;TZID=America/New_York:20261005T094500
DTSTAMP:20260421T164206
CREATED:20260205T155051Z
LAST-MODIFIED:20260205T160331Z
UID:10002031-1791191700-1791193500@alexandriaky.gov
SUMMARY:Chair Yoga
DESCRIPTION:
URL:https://alexandriaky.gov/event/chair-yoga/2026-10-05/
LOCATION:Calvin A. Perry Community Center\, 8236 W. Main Street\, Alexandria\, KY\, 41001\, United States
CATEGORIES:Community Center
ATTACH;FMTTYPE=image/jpeg:https://alexandriaky.gov/wp-content/uploads/2024/12/chair-yoga-flyer.resize.jpg
END:VEVENT
BEGIN:VEVENT
DTSTART;TZID=America/New_York:20261005T101500
DTEND;TZID=America/New_York:20261005T110000
DTSTAMP:20260421T164206
CREATED:20260205T161632Z
LAST-MODIFIED:20260205T161632Z
UID:10002126-1791195300-1791198000@alexandriaky.gov
SUMMARY:Fit-4-Life
DESCRIPTION:
URL:https://alexandriaky.gov/event/fit-4-life/2026-10-05/
LOCATION:Calvin A. Perry Community Center\, 8236 W. Main Street\, Alexandria\, KY\, 41001\, United States
CATEGORIES:Community Center
ATTACH;FMTTYPE=image/jpeg:https://alexandriaky.gov/wp-content/uploads/2026/02/2025-Fit-for-life-flyer.resize.jpg
END:VEVENT
BEGIN:VEVENT
DTSTART;TZID=America/New_York:20261005T120000
DTEND;TZID=America/New_York:20261005T144500
DTSTAMP:20260421T164206
CREATED:20260205T162616Z
LAST-MODIFIED:20260205T162616Z
UID:10002504-1791201600-1791211500@alexandriaky.gov
SUMMARY:Afternoon Chair Volleyball
DESCRIPTION:
URL:https://alexandriaky.gov/event/afternoon-chair-volleyball/2026-10-05/
LOCATION:Calvin A. Perry Community Center\, 8236 W. Main Street\, Alexandria\, KY\, 41001\, United States
CATEGORIES:Community Center
ATTACH;FMTTYPE=image/jpeg:https://alexandriaky.gov/wp-content/uploads/2026/02/1_30_25_Ch-Volley-Flyer.resize.jpg
END:VEVENT
BEGIN:VEVENT
DTSTART;TZID=America/New_York:20261005T120000
DTEND;TZID=America/New_York:20261005T144500
DTSTAMP:20260421T164206
CREATED:20260205T162925Z
LAST-MODIFIED:20260205T162925Z
UID:10002600-1791201600-1791211500@alexandriaky.gov
SUMMARY:Afternoon Pickleball
DESCRIPTION:
URL:https://alexandriaky.gov/event/afternoon-pickleball/2026-10-05/
LOCATION:Calvin A. Perry Community Center\, 8236 W. Main Street\, Alexandria\, KY\, 41001\, United States
CATEGORIES:Community Center
ATTACH;FMTTYPE=image/jpeg:https://alexandriaky.gov/wp-content/uploads/2026/02/picklleball-flyer-1_30_25.resize.jpg
END:VEVENT
BEGIN:VEVENT
DTSTART;TZID=America/New_York:20261006T090000
DTEND;TZID=America/New_York:20261006T094500
DTSTAMP:20260421T164206
CREATED:20260205T163310Z
LAST-MODIFIED:20260205T163310Z
UID:10002696-1791277200-1791279900@alexandriaky.gov
SUMMARY:Morning Chair Volleyball
DESCRIPTION:
URL:https://alexandriaky.gov/event/morning-chair-volleyball/2026-10-06/
LOCATION:Calvin A. Perry Community Center\, 8236 W. Main Street\, Alexandria\, KY\, 41001\, United States
CATEGORIES:Community Center
ATTACH;FMTTYPE=image/jpeg:https://alexandriaky.gov/wp-content/uploads/2026/02/1_30_25_Ch-Volley-Flyer.resize.jpg
END:VEVENT
BEGIN:VEVENT
DTSTART;TZID=America/New_York:20261006T100000
DTEND;TZID=America/New_York:20261006T120000
DTSTAMP:20260421T164206
CREATED:20260205T163713Z
LAST-MODIFIED:20260205T163713Z
UID:10002792-1791280800-1791288000@alexandriaky.gov
SUMMARY:Morning Pickleball
DESCRIPTION:
URL:https://alexandriaky.gov/event/morning-pickleball/2026-10-06/
LOCATION:Calvin A. Perry Community Center\, 8236 W. Main Street\, Alexandria\, KY\, 41001\, United States
CATEGORIES:Community Center
ATTACH;FMTTYPE=image/jpeg:https://alexandriaky.gov/wp-content/uploads/2026/02/picklleball-flyer-1_30_25.resize.jpg
END:VEVENT
BEGIN:VEVENT
DTSTART;TZID=America/New_York:20261006T190000
DTEND;TZID=America/New_York:20261006T200000
DTSTAMP:20260421T164206
CREATED:20251209T184941Z
LAST-MODIFIED:20251209T184941Z
UID:10001297-1791313200-1791316800@alexandriaky.gov
SUMMARY:Planning & Zoning Commission
DESCRIPTION:
URL:https://alexandriaky.gov/event/planning-zoning-commission-53/2026-10-06/
LOCATION:Alexandria City Building\, 8236 West Main Street\, Alexandria\, KY\, 41001
END:VEVENT
BEGIN:VEVENT
DTSTART;TZID=America/New_York:20261007T091500
DTEND;TZID=America/New_York:20261007T094500
DTSTAMP:20260421T164206
CREATED:20260205T160036Z
LAST-MODIFIED:20260205T161054Z
UID:10002078-1791364500-1791366300@alexandriaky.gov
SUMMARY:Chair Yoga
DESCRIPTION:
URL:https://alexandriaky.gov/event/chair-yoga-3/2026-10-07/
LOCATION:Calvin A. Perry Community Center\, 8236 W. Main Street\, Alexandria\, KY\, 41001\, United States
CATEGORIES:Community Center
ATTACH;FMTTYPE=image/jpeg:https://alexandriaky.gov/wp-content/uploads/2024/12/chair-yoga-flyer.resize.jpg
END:VEVENT
BEGIN:VEVENT
DTSTART;TZID=America/New_York:20261007T101500
DTEND;TZID=America/New_York:20261007T110000
DTSTAMP:20260421T164206
CREATED:20260205T162139Z
LAST-MODIFIED:20260205T164726Z
UID:10002384-1791368100-1791370800@alexandriaky.gov
SUMMARY:Fit-4-Life
DESCRIPTION:
URL:https://alexandriaky.gov/event/fit-4-life-2/2026-10-07/
LOCATION:Calvin A. Perry Community Center\, 8236 W. Main Street\, Alexandria\, KY\, 41001\, United States
CATEGORIES:Community Center
ATTACH;FMTTYPE=image/jpeg:https://alexandriaky.gov/wp-content/uploads/2026/02/2025-Fit-for-life-flyer.resize.jpg
END:VEVENT
BEGIN:VEVENT
DTSTART;TZID=America/New_York:20261007T120000
DTEND;TZID=America/New_York:20261007T144500
DTSTAMP:20260421T164206
CREATED:20260205T162727Z
LAST-MODIFIED:20260205T162727Z
UID:10002552-1791374400-1791384300@alexandriaky.gov
SUMMARY:Afternoon Chair Volleyball
DESCRIPTION:
URL:https://alexandriaky.gov/event/afternoon-chair-volleyball-2/2026-10-07/
LOCATION:Calvin A. Perry Community Center\, 8236 W. Main Street\, Alexandria\, KY\, 41001\, United States
CATEGORIES:Community Center
ATTACH;FMTTYPE=image/jpeg:https://alexandriaky.gov/wp-content/uploads/2026/02/1_30_25_Ch-Volley-Flyer.resize.jpg
END:VEVENT
BEGIN:VEVENT
DTSTART;TZID=America/New_York:20261007T120000
DTEND;TZID=America/New_York:20261007T144500
DTSTAMP:20260421T164206
CREATED:20260205T163149Z
LAST-MODIFIED:20260205T164833Z
UID:10002935-1791374400-1791384300@alexandriaky.gov
SUMMARY:Afternoon Pickleball
DESCRIPTION:
URL:https://alexandriaky.gov/event/afternoon-pickleball-2/2026-10-07/
LOCATION:Calvin A. Perry Community Center\, 8236 W. Main Street\, Alexandria\, KY\, 41001\, United States
CATEGORIES:Community Center
ATTACH;FMTTYPE=image/jpeg:https://alexandriaky.gov/wp-content/uploads/2026/02/picklleball-flyer-1_30_25.resize.jpg
END:VEVENT
BEGIN:VEVENT
DTSTART;TZID=America/New_York:20261007T190000
DTEND;TZID=America/New_York:20261007T200000
DTSTAMP:20260421T164206
CREATED:20251209T185908Z
LAST-MODIFIED:20251209T185908Z
UID:10001321-1791399600-1791403200@alexandriaky.gov
SUMMARY:Park & Recreation Meeting
DESCRIPTION:
URL:https://alexandriaky.gov/event/park-recreation-meeting-13/2026-10-07/
LOCATION:Alexandria City Building\, 8236 West Main Street\, Alexandria\, KY\, 41001
CATEGORIES:Main
END:VEVENT
BEGIN:VEVENT
DTSTART;TZID=America/New_York:20261008T090000
DTEND;TZID=America/New_York:20261008T103000
DTSTAMP:20260421T164206
CREATED:20260205T163452Z
LAST-MODIFIED:20260205T163452Z
UID:10002744-1791450000-1791455400@alexandriaky.gov
SUMMARY:Morning Chair Volleyball
DESCRIPTION:
URL:https://alexandriaky.gov/event/morning-chair-volleyball-2/2026-10-08/
LOCATION:Calvin A. Perry Community Center\, 8236 W. Main Street\, Alexandria\, KY\, 41001\, United States
CATEGORIES:Community Center
ATTACH;FMTTYPE=image/jpeg:https://alexandriaky.gov/wp-content/uploads/2026/02/1_30_25_Ch-Volley-Flyer.resize.jpg
END:VEVENT
BEGIN:VEVENT
DTSTART;TZID=America/New_York:20261008T100000
DTEND;TZID=America/New_York:20261008T120000
DTSTAMP:20260421T164206
CREATED:20260205T163826Z
LAST-MODIFIED:20260205T163826Z
UID:10002840-1791453600-1791460800@alexandriaky.gov
SUMMARY:Morning Pickleball
DESCRIPTION:
URL:https://alexandriaky.gov/event/morning-pickleball-2/2026-10-08/
LOCATION:Calvin A. Perry Community Center\, 8236 W. Main Street\, Alexandria\, KY\, 41001\, United States
CATEGORIES:Community Center
ATTACH;FMTTYPE=image/jpeg:https://alexandriaky.gov/wp-content/uploads/2026/02/picklleball-flyer-1_30_25.resize.jpg
END:VEVENT
BEGIN:VEVENT
DTSTART;TZID=America/New_York:20261009T091500
DTEND;TZID=America/New_York:20261009T100000
DTSTAMP:20260421T164206
CREATED:20260205T164051Z
LAST-MODIFIED:20260205T164051Z
UID:10002888-1791537300-1791540000@alexandriaky.gov
SUMMARY:Drum Fun
DESCRIPTION:
URL:https://alexandriaky.gov/event/drum-fun/2026-10-09/
LOCATION:Calvin A. Perry Community Center\, 8236 W. Main Street\, Alexandria\, KY\, 41001\, United States
CATEGORIES:Community Center
ATTACH;FMTTYPE=image/jpeg:https://alexandriaky.gov/wp-content/uploads/2026/02/DrumFun-Flyer-1_30_25.resize.jpg
END:VEVENT
BEGIN:VEVENT
DTSTART;VALUE=DATE:20261012
DTEND;VALUE=DATE:20261013
DTSTAMP:20260421T164206
CREATED:20251209T202036Z
LAST-MODIFIED:20251209T202036Z
UID:10001411-1791763200-1791849599@alexandriaky.gov
SUMMARY:Columbus Day - CITY OFFICES CLOSED
DESCRIPTION:
URL:https://alexandriaky.gov/event/columbus-day-city-offices-closed/
LOCATION:Alexandria City Building\, 8236 West Main Street\, Alexandria\, KY\, 41001
CATEGORIES:Main
END:VEVENT
BEGIN:VEVENT
DTSTART;TZID=America/New_York:20261012T091500
DTEND;TZID=America/New_York:20261012T094500
DTSTAMP:20260421T164206
CREATED:20260205T155051Z
LAST-MODIFIED:20260205T160331Z
UID:10002032-1791796500-1791798300@alexandriaky.gov
SUMMARY:Chair Yoga
DESCRIPTION:
URL:https://alexandriaky.gov/event/chair-yoga/2026-10-12/
LOCATION:Calvin A. Perry Community Center\, 8236 W. Main Street\, Alexandria\, KY\, 41001\, United States
CATEGORIES:Community Center
ATTACH;FMTTYPE=image/jpeg:https://alexandriaky.gov/wp-content/uploads/2024/12/chair-yoga-flyer.resize.jpg
END:VEVENT
BEGIN:VEVENT
DTSTART;TZID=America/New_York:20261012T101500
DTEND;TZID=America/New_York:20261012T110000
DTSTAMP:20260421T164206
CREATED:20260205T161632Z
LAST-MODIFIED:20260205T161632Z
UID:10002127-1791800100-1791802800@alexandriaky.gov
SUMMARY:Fit-4-Life
DESCRIPTION:
URL:https://alexandriaky.gov/event/fit-4-life/2026-10-12/
LOCATION:Calvin A. Perry Community Center\, 8236 W. Main Street\, Alexandria\, KY\, 41001\, United States
CATEGORIES:Community Center
ATTACH;FMTTYPE=image/jpeg:https://alexandriaky.gov/wp-content/uploads/2026/02/2025-Fit-for-life-flyer.resize.jpg
END:VEVENT
BEGIN:VEVENT
DTSTART;TZID=America/New_York:20261012T120000
DTEND;TZID=America/New_York:20261012T144500
DTSTAMP:20260421T164206
CREATED:20260205T162616Z
LAST-MODIFIED:20260205T162616Z
UID:10002505-1791806400-1791816300@alexandriaky.gov
SUMMARY:Afternoon Chair Volleyball
DESCRIPTION:
URL:https://alexandriaky.gov/event/afternoon-chair-volleyball/2026-10-12/
LOCATION:Calvin A. Perry Community Center\, 8236 W. Main Street\, Alexandria\, KY\, 41001\, United States
CATEGORIES:Community Center
ATTACH;FMTTYPE=image/jpeg:https://alexandriaky.gov/wp-content/uploads/2026/02/1_30_25_Ch-Volley-Flyer.resize.jpg
END:VEVENT
BEGIN:VEVENT
DTSTART;TZID=America/New_York:20261012T120000
DTEND;TZID=America/New_York:20261012T144500
DTSTAMP:20260421T164206
CREATED:20260205T162925Z
LAST-MODIFIED:20260205T162925Z
UID:10002601-1791806400-1791816300@alexandriaky.gov
SUMMARY:Afternoon Pickleball
DESCRIPTION:
URL:https://alexandriaky.gov/event/afternoon-pickleball/2026-10-12/
LOCATION:Calvin A. Perry Community Center\, 8236 W. Main Street\, Alexandria\, KY\, 41001\, United States
CATEGORIES:Community Center
ATTACH;FMTTYPE=image/jpeg:https://alexandriaky.gov/wp-content/uploads/2026/02/picklleball-flyer-1_30_25.resize.jpg
END:VEVENT
BEGIN:VEVENT
DTSTART;TZID=America/New_York:20261013T090000
DTEND;TZID=America/New_York:20261013T094500
DTSTAMP:20260421T164206
CREATED:20260205T163310Z
LAST-MODIFIED:20260205T163310Z
UID:10002697-1791882000-1791884700@alexandriaky.gov
SUMMARY:Morning Chair Volleyball
DESCRIPTION:
URL:https://alexandriaky.gov/event/morning-chair-volleyball/2026-10-13/
LOCATION:Calvin A. Perry Community Center\, 8236 W. Main Street\, Alexandria\, KY\, 41001\, United States
CATEGORIES:Community Center
ATTACH;FMTTYPE=image/jpeg:https://alexandriaky.gov/wp-content/uploads/2026/02/1_30_25_Ch-Volley-Flyer.resize.jpg
END:VEVENT
BEGIN:VEVENT
DTSTART;TZID=America/New_York:20261013T100000
DTEND;TZID=America/New_York:20261013T120000
DTSTAMP:20260421T164206
CREATED:20260205T163713Z
LAST-MODIFIED:20260205T163713Z
UID:10002793-1791885600-1791892800@alexandriaky.gov
SUMMARY:Morning Pickleball
DESCRIPTION:
URL:https://alexandriaky.gov/event/morning-pickleball/2026-10-13/
LOCATION:Calvin A. Perry Community Center\, 8236 W. Main Street\, Alexandria\, KY\, 41001\, United States
CATEGORIES:Community Center
ATTACH;FMTTYPE=image/jpeg:https://alexandriaky.gov/wp-content/uploads/2026/02/picklleball-flyer-1_30_25.resize.jpg
END:VEVENT
BEGIN:VEVENT
DTSTART;TZID=America/New_York:20261014T091500
DTEND;TZID=America/New_York:20261014T094500
DTSTAMP:20260421T164206
CREATED:20260205T160036Z
LAST-MODIFIED:20260205T161054Z
UID:10002079-1791969300-1791971100@alexandriaky.gov
SUMMARY:Chair Yoga
DESCRIPTION:
URL:https://alexandriaky.gov/event/chair-yoga-3/2026-10-14/
LOCATION:Calvin A. Perry Community Center\, 8236 W. Main Street\, Alexandria\, KY\, 41001\, United States
CATEGORIES:Community Center
ATTACH;FMTTYPE=image/jpeg:https://alexandriaky.gov/wp-content/uploads/2024/12/chair-yoga-flyer.resize.jpg
END:VEVENT
END:VCALENDAR