BEGIN:VCALENDAR
VERSION:2.0
PRODID:-//City of Alexandria Kentucky - ECPv6.15.20//NONSGML v1.0//EN
CALSCALE:GREGORIAN
METHOD:PUBLISH
X-WR-CALNAME:City of Alexandria Kentucky
X-ORIGINAL-URL:https://alexandriaky.gov
X-WR-CALDESC:Events for City of Alexandria Kentucky
REFRESH-INTERVAL;VALUE=DURATION:PT1H
X-Robots-Tag:noindex
X-PUBLISHED-TTL:PT1H
BEGIN:VTIMEZONE
TZID:America/New_York
BEGIN:DAYLIGHT
TZOFFSETFROM:-0500
TZOFFSETTO:-0400
TZNAME:EDT
DTSTART:20240310T070000
END:DAYLIGHT
BEGIN:STANDARD
TZOFFSETFROM:-0400
TZOFFSETTO:-0500
TZNAME:EST
DTSTART:20241103T060000
END:STANDARD
BEGIN:DAYLIGHT
TZOFFSETFROM:-0500
TZOFFSETTO:-0400
TZNAME:EDT
DTSTART:20250309T070000
END:DAYLIGHT
BEGIN:STANDARD
TZOFFSETFROM:-0400
TZOFFSETTO:-0500
TZNAME:EST
DTSTART:20251102T060000
END:STANDARD
BEGIN:DAYLIGHT
TZOFFSETFROM:-0500
TZOFFSETTO:-0400
TZNAME:EDT
DTSTART:20260308T070000
END:DAYLIGHT
BEGIN:STANDARD
TZOFFSETFROM:-0400
TZOFFSETTO:-0500
TZNAME:EST
DTSTART:20261101T060000
END:STANDARD
END:VTIMEZONE
BEGIN:VEVENT
DTSTART;TZID=America/New_York:20250903T190000
DTEND;TZID=America/New_York:20250903T200000
DTSTAMP:20260420T230945
CREATED:20241212T203052Z
LAST-MODIFIED:20250902T121528Z
UID:10001181-1756926000-1756929600@alexandriaky.gov
SUMMARY:Park & Recreation Board
DESCRIPTION:Agenda
URL:https://alexandriaky.gov/event/park-recreation-board-27/
LOCATION:Alexandria Community Park 3965 Alexandria Dr.\, Alexandria KY\, 3965 Alexandria Drive\, Alexandria\, KY\, 41001\, United States
END:VEVENT
BEGIN:VEVENT
DTSTART;TZID=America/New_York:20250902T190000
DTEND;TZID=America/New_York:20250902T200000
DTSTAMP:20260420T230945
CREATED:20241212T200800Z
LAST-MODIFIED:20250902T121449Z
UID:10001164-1756839600-1756843200@alexandriaky.gov
SUMMARY:Planning & Zoning Commission - CANCELLED
DESCRIPTION:MEETING CANCELLED
URL:https://alexandriaky.gov/event/planning-zoning-commission-45/
LOCATION:Alexandria City Building\, 8236 West Main Street\, Alexandria\, KY\, 41001
END:VEVENT
BEGIN:VEVENT
DTSTART;TZID=America/New_York:20250821T190000
DTEND;TZID=America/New_York:20250821T200000
DTSTAMP:20260420T230945
CREATED:20241212T195047Z
LAST-MODIFIED:20250819T122245Z
UID:10001139-1755802800-1755806400@alexandriaky.gov
SUMMARY:City Council
DESCRIPTION:Agenda
URL:https://alexandriaky.gov/event/city-council-44/
LOCATION:Alexandria City Building\, 8236 West Main Street\, Alexandria\, KY\, 41001
END:VEVENT
BEGIN:VEVENT
DTSTART;TZID=America/New_York:20250821T183000
DTEND;TZID=America/New_York:20250821T190000
DTSTAMP:20260420T230945
CREATED:20250218T130548Z
LAST-MODIFIED:20250819T122205Z
UID:10001243-1755801000-1755802800@alexandriaky.gov
SUMMARY:Personnel Committee Meeting
DESCRIPTION:Agenda
URL:https://alexandriaky.gov/event/personnel-committee-meeting-11/
LOCATION:Alexandria City Building\, 8236 West Main Street\, Alexandria\, KY\, 41001
END:VEVENT
BEGIN:VEVENT
DTSTART;TZID=America/New_York:20250821T180000
DTEND;TZID=America/New_York:20250821T200000
DTSTAMP:20260420T230945
CREATED:20250730T122840Z
LAST-MODIFIED:20250730T122840Z
UID:10001276-1755799200-1755806400@alexandriaky.gov
SUMMARY:Dog Day at Community Park
DESCRIPTION:
URL:https://alexandriaky.gov/event/dog-day-at-community-park/
LOCATION:Alexandria Community Park 3965 Alexandria Dr.\, Alexandria KY\, 3965 Alexandria Drive\, Alexandria\, KY\, 41001\, United States
END:VEVENT
BEGIN:VEVENT
DTSTART;TZID=America/New_York:20250821T180000
DTEND;TZID=America/New_York:20250821T183000
DTSTAMP:20260420T230945
CREATED:20250218T125900Z
LAST-MODIFIED:20250819T122133Z
UID:10001230-1755799200-1755801000@alexandriaky.gov
SUMMARY:Finance Committee Meeting
DESCRIPTION:Agenda
URL:https://alexandriaky.gov/event/finance-committee-meeting-19/
LOCATION:Alexandria City Building\, 8236 West Main Street\, Alexandria\, KY\, 41001
END:VEVENT
BEGIN:VEVENT
DTSTART;TZID=America/New_York:20250819T190000
DTEND;TZID=America/New_York:20250819T200000
DTSTAMP:20260420T230945
CREATED:20241212T200709Z
LAST-MODIFIED:20250815T185121Z
UID:10001163-1755630000-1755633600@alexandriaky.gov
SUMMARY:Planning & Zoning Commission - CANCELLED
DESCRIPTION:MEETING CANCELLED
URL:https://alexandriaky.gov/event/planning-zoning-commission-44/
LOCATION:Alexandria City Building\, 8236 West Main Street\, Alexandria\, KY\, 41001
END:VEVENT
BEGIN:VEVENT
DTSTART;TZID=America/New_York:20250813T190000
DTEND;TZID=America/New_York:20250813T200000
DTSTAMP:20260420T230945
CREATED:20241212T204918Z
LAST-MODIFIED:20250812T172039Z
UID:10001191-1755111600-1755115200@alexandriaky.gov
SUMMARY:Board of Adjustments - CANCELLED
DESCRIPTION:MEETING CANCELLED
URL:https://alexandriaky.gov/event/board-of-adjustments-21/
LOCATION:Alexandria City Building\, 8236 West Main Street\, Alexandria\, KY\, 41001
END:VEVENT
BEGIN:VEVENT
DTSTART;TZID=America/New_York:20250812T190000
DTEND;TZID=America/New_York:20250812T200000
DTSTAMP:20260420T230945
CREATED:20250730T122736Z
LAST-MODIFIED:20250730T190550Z
UID:10001275-1755025200-1755028800@alexandriaky.gov
SUMMARY:Free Yoga in the Park
DESCRIPTION:
URL:https://alexandriaky.gov/event/free-yoga-in-the-park-5/
LOCATION:Alexandria Community Park 3965 Alexandria Dr.\, Alexandria KY\, 3965 Alexandria Drive\, Alexandria\, KY\, 41001\, United States
END:VEVENT
BEGIN:VEVENT
DTSTART;TZID=America/New_York:20250812T190000
DTEND;TZID=America/New_York:20250812T200000
DTSTAMP:20260420T230945
CREATED:20241212T205806Z
LAST-MODIFIED:20250812T171930Z
UID:10001198-1755025200-1755028800@alexandriaky.gov
SUMMARY:Board of Ethics - CANCELLED
DESCRIPTION:MEETINT CANCELLED
URL:https://alexandriaky.gov/event/board-of-ethics-7/
LOCATION:Alexandria City Building\, 8236 West Main Street\, Alexandria\, KY\, 41001
END:VEVENT
BEGIN:VEVENT
DTSTART;TZID=America/New_York:20250807T190000
DTEND;TZID=America/New_York:20250807T200000
DTSTAMP:20260420T230945
CREATED:20241212T195017Z
LAST-MODIFIED:20250806T121333Z
UID:10001138-1754593200-1754596800@alexandriaky.gov
SUMMARY:City Council
DESCRIPTION:Agenda
URL:https://alexandriaky.gov/event/city-council-43/
LOCATION:Alexandria City Building\, 8236 West Main Street\, Alexandria\, KY\, 41001
END:VEVENT
BEGIN:VEVENT
DTSTART;TZID=America/New_York:20250807T180000
DTEND;TZID=America/New_York:20250807T190000
DTSTAMP:20260420T230945
CREATED:20250218T125431Z
LAST-MODIFIED:20250806T121603Z
UID:10001223-1754589600-1754593200@alexandriaky.gov
SUMMARY:Future Planning Committee Meeting
DESCRIPTION:Agenda
URL:https://alexandriaky.gov/event/future-planning-committee-meeting-11/
LOCATION:Alexandria City Building\, 8236 West Main Street\, Alexandria\, KY\, 41001
END:VEVENT
BEGIN:VEVENT
DTSTART;TZID=America/New_York:20250807T104500
DTEND;TZID=America/New_York:20250807T120000
DTSTAMP:20260420T230945
CREATED:20250730T122605Z
LAST-MODIFIED:20250730T122623Z
UID:10001274-1754563500-1754568000@alexandriaky.gov
SUMMARY:Kid's Doggie Art at the Park
DESCRIPTION:
URL:https://alexandriaky.gov/event/kids-doggie-art-at-the-park/
LOCATION:Alexandria Community Park 3965 Alexandria Dr.\, Alexandria KY\, 3965 Alexandria Drive\, Alexandria\, KY\, 41001\, United States
END:VEVENT
BEGIN:VEVENT
DTSTART;TZID=America/New_York:20250806T190000
DTEND;TZID=America/New_York:20250806T200000
DTSTAMP:20260420T230945
CREATED:20241212T203009Z
LAST-MODIFIED:20250804T154508Z
UID:10001180-1754506800-1754510400@alexandriaky.gov
SUMMARY:Park & Recreation Board
DESCRIPTION:Agenda
URL:https://alexandriaky.gov/event/park-recreation-board-26/
LOCATION:Alexandria Community Park 3965 Alexandria Dr.\, Alexandria KY\, 3965 Alexandria Drive\, Alexandria\, KY\, 41001\, United States
END:VEVENT
BEGIN:VEVENT
DTSTART;TZID=America/New_York:20250806T140000
DTEND;TZID=America/New_York:20250806T160000
DTSTAMP:20260420T230945
CREATED:20250728T192229Z
LAST-MODIFIED:20250728T192229Z
UID:10001272-1754488800-1754496000@alexandriaky.gov
SUMMARY:St. Elizabeth Mammography Van
DESCRIPTION:
URL:https://alexandriaky.gov/event/st-elizabeth-mammography-van/
LOCATION:Alexandria City Building\, 8236 West Main Street\, Alexandria\, KY\, 41001
END:VEVENT
BEGIN:VEVENT
DTSTART;TZID=America/New_York:20250805T190000
DTEND;TZID=America/New_York:20250805T200000
DTSTAMP:20260420T230945
CREATED:20241212T200637Z
LAST-MODIFIED:20250804T154425Z
UID:10001162-1754420400-1754424000@alexandriaky.gov
SUMMARY:Planning & Zoning Commission
DESCRIPTION:Agenda
URL:https://alexandriaky.gov/event/planning-zoning-commission-43/
LOCATION:Alexandria City Building\, 8236 West Main Street\, Alexandria\, KY\, 41001
END:VEVENT
BEGIN:VEVENT
DTSTART;VALUE=DATE:20250805
DTEND;VALUE=DATE:20250830
DTSTAMP:20260420T230945
CREATED:20250730T122013Z
LAST-MODIFIED:20250730T122502Z
UID:10001273-1754352000-1756511999@alexandriaky.gov
SUMMARY:Storywalk at Community Park
DESCRIPTION:
URL:https://alexandriaky.gov/event/storywalk-at-community-park/
LOCATION:Alexandria Community Park 3965 Alexandria Dr.\, Alexandria KY\, 3965 Alexandria Drive\, Alexandria\, KY\, 41001\, United States
END:VEVENT
BEGIN:VEVENT
DTSTART;TZID=America/New_York:20250724T190000
DTEND;TZID=America/New_York:20250724T200000
DTSTAMP:20260420T230945
CREATED:20241212T210243Z
LAST-MODIFIED:20250722T181012Z
UID:10001206-1753383600-1753387200@alexandriaky.gov
SUMMARY:Property Maintenance Board of Appeals - CANCELLED
DESCRIPTION:MEETING CANCELLED
URL:https://alexandriaky.gov/event/property-maintenance-board-of-appeals-8/
LOCATION:Alexandria City Building\, 8236 West Main Street\, Alexandria\, KY\, 41001
END:VEVENT
BEGIN:VEVENT
DTSTART;TZID=America/New_York:20250724T104500
DTEND;TZID=America/New_York:20250724T114500
DTSTAMP:20260420T230945
CREATED:20250626T130209Z
LAST-MODIFIED:20250626T130209Z
UID:10001270-1753353900-1753357500@alexandriaky.gov
SUMMARY:Kids Art in the Park
DESCRIPTION:
URL:https://alexandriaky.gov/event/kids-art-in-the-park-3/
LOCATION:Alexandria Community Park 3965 Alexandria Dr.\, Alexandria KY\, 3965 Alexandria Drive\, Alexandria\, KY\, 41001\, United States
END:VEVENT
BEGIN:VEVENT
DTSTART;TZID=America/New_York:20250722T190000
DTEND;TZID=America/New_York:20250722T200000
DTSTAMP:20260420T230945
CREATED:20250626T130128Z
LAST-MODIFIED:20250626T130128Z
UID:10001269-1753210800-1753214400@alexandriaky.gov
SUMMARY:FREE Yoga in the Park
DESCRIPTION:
URL:https://alexandriaky.gov/event/free-yoga-in-the-park-4/
LOCATION:Alexandria Community Park 3965 Alexandria Dr.\, Alexandria KY\, 3965 Alexandria Drive\, Alexandria\, KY\, 41001\, United States
END:VEVENT
BEGIN:VEVENT
DTSTART;TZID=America/New_York:20250717T190000
DTEND;TZID=America/New_York:20250717T200000
DTSTAMP:20260420T230945
CREATED:20241212T194940Z
LAST-MODIFIED:20250715T160205Z
UID:10001137-1752778800-1752782400@alexandriaky.gov
SUMMARY:City Council
DESCRIPTION:Agenda
URL:https://alexandriaky.gov/event/city-council-42/
LOCATION:Alexandria City Building\, 8236 West Main Street\, Alexandria\, KY\, 41001
END:VEVENT
BEGIN:VEVENT
DTSTART;TZID=America/New_York:20250717T183000
DTEND;TZID=America/New_York:20250717T190000
DTSTAMP:20260420T230945
CREATED:20250218T130806Z
LAST-MODIFIED:20250715T160120Z
UID:10001247-1752777000-1752778800@alexandriaky.gov
SUMMARY:Safety Committee Meeting
DESCRIPTION:Agenda
URL:https://alexandriaky.gov/event/safety-committee-meeting-10/
LOCATION:Alexandria City Building\, 8236 West Main Street\, Alexandria\, KY\, 41001
END:VEVENT
BEGIN:VEVENT
DTSTART;TZID=America/New_York:20250717T180000
DTEND;TZID=America/New_York:20250717T183000
DTSTAMP:20260420T230945
CREATED:20250218T130328Z
LAST-MODIFIED:20250715T160042Z
UID:10001238-1752775200-1752777000@alexandriaky.gov
SUMMARY:Public Works Committee Meeting - CANCELLED
DESCRIPTION:MEETING CANCELLED
URL:https://alexandriaky.gov/event/public-works-committee-meeting-26/
LOCATION:Alexandria City Building\, 8236 West Main Street\, Alexandria\, KY\, 41001
END:VEVENT
BEGIN:VEVENT
DTSTART;TZID=America/New_York:20250717T104500
DTEND;TZID=America/New_York:20250717T114500
DTSTAMP:20260420T230945
CREATED:20250626T130041Z
LAST-MODIFIED:20250626T130041Z
UID:10001268-1752749100-1752752700@alexandriaky.gov
SUMMARY:Kids Water Balloon Games
DESCRIPTION:
URL:https://alexandriaky.gov/event/kids-water-balloon-games/
LOCATION:Alexandria Community Park 3965 Alexandria Dr.\, Alexandria KY\, 3965 Alexandria Drive\, Alexandria\, KY\, 41001\, United States
END:VEVENT
BEGIN:VEVENT
DTSTART;TZID=America/New_York:20250716T100000
DTEND;TZID=America/New_York:20250716T110000
DTSTAMP:20260420T230945
CREATED:20250310T183527Z
LAST-MODIFIED:20250626T125924Z
UID:10001258-1752660000-1752663600@alexandriaky.gov
SUMMARY:Campbell County Library Book Bus & Activity
DESCRIPTION:
URL:https://alexandriaky.gov/event/campbell-county-library-book-bus-activity/
LOCATION:Alexandria Community Park 3965 Alexandria Dr.\, Alexandria KY\, 3965 Alexandria Drive\, Alexandria\, KY\, 41001\, United States
END:VEVENT
BEGIN:VEVENT
DTSTART;TZID=America/New_York:20250715T190000
DTEND;TZID=America/New_York:20250715T200000
DTSTAMP:20260420T230945
CREATED:20241212T200606Z
LAST-MODIFIED:20250715T155940Z
UID:10001161-1752606000-1752609600@alexandriaky.gov
SUMMARY:Planning & Zoning Commission
DESCRIPTION:Agenda
URL:https://alexandriaky.gov/event/planning-zoning-commission-42/
LOCATION:Alexandria City Building\, 8236 West Main Street\, Alexandria\, KY\, 41001
END:VEVENT
BEGIN:VEVENT
DTSTART;TZID=America/New_York:20250709T190000
DTEND;TZID=America/New_York:20250709T200000
DTSTAMP:20260420T230945
CREATED:20241212T204806Z
LAST-MODIFIED:20250702T194257Z
UID:10001190-1752087600-1752091200@alexandriaky.gov
SUMMARY:Board of Adjustment - CANCELLED
DESCRIPTION:MEETING CANCELLED
URL:https://alexandriaky.gov/event/board-of-adjustments-20/
LOCATION:Alexandria City Building\, 8236 West Main Street\, Alexandria\, KY\, 41001
END:VEVENT
BEGIN:VEVENT
DTSTART;TZID=America/New_York:20250703T190000
DTEND;TZID=America/New_York:20250703T200000
DTSTAMP:20260420T230945
CREATED:20241212T194848Z
LAST-MODIFIED:20250630T150631Z
UID:10001136-1751569200-1751572800@alexandriaky.gov
SUMMARY:City Council - CANCELLED
DESCRIPTION:MEETING CANCELLED
URL:https://alexandriaky.gov/event/city-council-41/
LOCATION:Alexandria City Building\, 8236 West Main Street\, Alexandria\, KY\, 41001
END:VEVENT
BEGIN:VEVENT
DTSTART;TZID=America/New_York:20250703T180000
DTEND;TZID=America/New_York:20250703T190000
DTSTAMP:20260420T230945
CREATED:20250218T130023Z
LAST-MODIFIED:20250630T150503Z
UID:10001232-1751565600-1751569200@alexandriaky.gov
SUMMARY:Business Retention & Development Committee Meeting - CANCELLED
DESCRIPTION:MEETING CANCELLED
URL:https://alexandriaky.gov/event/business-retention-development-committee-meeting-3/
LOCATION:Alexandria City Building\, 8236 West Main Street\, Alexandria\, KY\, 41001
END:VEVENT
BEGIN:VEVENT
DTSTART;TZID=America/New_York:20250703T120000
DTEND;TZID=America/New_York:20250703T130000
DTSTAMP:20260420T230945
CREATED:20250630T150549Z
LAST-MODIFIED:20250630T150549Z
UID:10001271-1751544000-1751547600@alexandriaky.gov
SUMMARY:Business Retention & Development Committee Special Meeting
DESCRIPTION:Agenda
URL:https://alexandriaky.gov/event/business-retention-development-committee-special-meeting-2/
LOCATION:Alexandria City Building\, 8236 West Main Street\, Alexandria\, KY\, 41001
END:VEVENT
END:VCALENDAR