BEGIN:VCALENDAR
VERSION:2.0
PRODID:-//City of Alexandria Kentucky - ECPv6.15.20//NONSGML v1.0//EN
CALSCALE:GREGORIAN
METHOD:PUBLISH
X-WR-CALNAME:City of Alexandria Kentucky
X-ORIGINAL-URL:https://alexandriaky.gov
X-WR-CALDESC:Events for City of Alexandria Kentucky
REFRESH-INTERVAL;VALUE=DURATION:PT1H
X-Robots-Tag:noindex
X-PUBLISHED-TTL:PT1H
BEGIN:VTIMEZONE
TZID:America/New_York
BEGIN:DAYLIGHT
TZOFFSETFROM:-0500
TZOFFSETTO:-0400
TZNAME:EDT
DTSTART:20250309T070000
END:DAYLIGHT
BEGIN:STANDARD
TZOFFSETFROM:-0400
TZOFFSETTO:-0500
TZNAME:EST
DTSTART:20251102T060000
END:STANDARD
BEGIN:DAYLIGHT
TZOFFSETFROM:-0500
TZOFFSETTO:-0400
TZNAME:EDT
DTSTART:20260308T070000
END:DAYLIGHT
BEGIN:STANDARD
TZOFFSETFROM:-0400
TZOFFSETTO:-0500
TZNAME:EST
DTSTART:20261101T060000
END:STANDARD
BEGIN:DAYLIGHT
TZOFFSETFROM:-0500
TZOFFSETTO:-0400
TZNAME:EDT
DTSTART:20270314T070000
END:DAYLIGHT
BEGIN:STANDARD
TZOFFSETFROM:-0400
TZOFFSETTO:-0500
TZNAME:EST
DTSTART:20271107T060000
END:STANDARD
END:VTIMEZONE
BEGIN:VEVENT
DTSTART;TZID=America/New_York:20260806T090000
DTEND;TZID=America/New_York:20260806T103000
DTSTAMP:20260420T052630
CREATED:20260205T163452Z
LAST-MODIFIED:20260205T163452Z
UID:10002735-1786006800-1786012200@alexandriaky.gov
SUMMARY:Morning Chair Volleyball
DESCRIPTION:
URL:https://alexandriaky.gov/event/morning-chair-volleyball-2/2026-08-06/
LOCATION:Calvin A. Perry Community Center\, 8236 W. Main Street\, Alexandria\, KY\, 41001\, United States
CATEGORIES:Community Center
ATTACH;FMTTYPE=image/jpeg:https://alexandriaky.gov/wp-content/uploads/2026/02/1_30_25_Ch-Volley-Flyer.resize.jpg
END:VEVENT
BEGIN:VEVENT
DTSTART;TZID=America/New_York:20260806T100000
DTEND;TZID=America/New_York:20260806T120000
DTSTAMP:20260420T052630
CREATED:20260205T163826Z
LAST-MODIFIED:20260205T163826Z
UID:10002831-1786010400-1786017600@alexandriaky.gov
SUMMARY:Morning Pickleball
DESCRIPTION:
URL:https://alexandriaky.gov/event/morning-pickleball-2/2026-08-06/
LOCATION:Calvin A. Perry Community Center\, 8236 W. Main Street\, Alexandria\, KY\, 41001\, United States
CATEGORIES:Community Center
ATTACH;FMTTYPE=image/jpeg:https://alexandriaky.gov/wp-content/uploads/2026/02/picklleball-flyer-1_30_25.resize.jpg
END:VEVENT
BEGIN:VEVENT
DTSTART;TZID=America/New_York:20260806T180000
DTEND;TZID=America/New_York:20260806T190000
DTSTAMP:20260420T052630
CREATED:20251209T194255Z
LAST-MODIFIED:20251209T194255Z
UID:10001375-1786039200-1786042800@alexandriaky.gov
SUMMARY:Future Planning Committee
DESCRIPTION:
URL:https://alexandriaky.gov/event/future-planning-committee-7/
LOCATION:Alexandria City Building\, 8236 West Main Street\, Alexandria\, KY\, 41001
CATEGORIES:Main
END:VEVENT
BEGIN:VEVENT
DTSTART;TZID=America/New_York:20260806T190000
DTEND;TZID=America/New_York:20260806T200000
DTSTAMP:20260420T052630
CREATED:20251209T190116Z
LAST-MODIFIED:20260130T192658Z
UID:10001342-1786042800-1786046400@alexandriaky.gov
SUMMARY:City Council Meeting
DESCRIPTION:
URL:https://alexandriaky.gov/event/city-council-meeting-81/2026-08-06/
LOCATION:Alexandria City Building\, 8236 West Main Street\, Alexandria\, KY\, 41001
CATEGORIES:Public Meeting
END:VEVENT
END:VCALENDAR